Workbook
Name activity: 'Перечень тарифов'!$F$20:$F$25
Name add_CS_List05_10: 'Форма 1.0.1 | Т-подкл'!$G$17
Name add_CS_List05_2: 'Форма 1.0.1 | Т-транс'!$G$17
Name add_CS_List05_9: 'Форма 1.0.1 | Т-подкл(инд)'!$G$17
Name add_CT_10: 'Форма 1.11.3 | Т-подкл'!$M$28
Name add_CT_2: 'Форма 1.11.2 | Т-транс'!$M$28
Name add_CT_9: 'Форма 1.11.3 | Т-подкл(инд)'!$M$28
Name add_MO_10: 'Форма 1.11.3 | Т-подкл'!$M$29
Name add_MO_2: 'Форма 1.11.2 | Т-транс'!$M$29
Name add_MO_9: 'Форма 1.11.3 | Т-подкл(инд)'!$M$29
Name add_MO_List05_10: 'Форма 1.0.1 | Т-подкл'!$G$14
Name add_MO_List05_2: 'Форма 1.0.1 | Т-транс'!$G$14
Name add_MO_List05_9: 'Форма 1.0.1 | Т-подкл(инд)'!$G$14
Name add_MR_List05_10: 'Форма 1.0.1 | Т-подкл'!$G$15
Name add_MR_List05_2: 'Форма 1.0.1 | Т-транс'!$G$15
Name add_MR_List05_9: 'Форма 1.0.1 | Т-подкл(инд)'!$G$15
Name add_POST_5: 'Форма 1.11.2 | Т-гор.вода'!$M$25
Name add_Rate_10: 'Форма 1.11.3 | Т-подкл'!$M$30
Name add_Rate_2: 'Форма 1.11.2 | Т-транс'!$M$30
Name add_Rate_9: 'Форма 1.11.3 | Т-подкл(инд)'!$M$30
Name add_TER_List05_10: 'Форма 1.0.1 | Т-подкл'!$G$16
Name add_TER_List05_2: 'Форма 1.0.1 | Т-транс'!$G$16
Name add_TER_List05_9: 'Форма 1.0.1 | Т-подкл(инд)'!$G$16
Name add_Warm_2: 'Форма 1.11.2 | Т-транс'!$M$27
Name add_Warm_5: 'Форма 1.11.2 | Т-гор.вода'!$M$28
Name apr_10: 'Форма 1.11.3 | Т-подкл'!$AC$7:$AI$12
Name apr_2: 'Форма 1.11.2 | Т-транс'!$O$8:$T$11
Name apr_9: 'Форма 1.11.3 | Т-подкл(инд)'!$AD$7:$AJ$12
Name CHECK_LINK_RANGE_1: "Калькуляция!$I$11:$I$132"
Name checkCell_List01: Территории!$D$15:$L$15
Name checkCell_List02: 'Перечень тарифов'!$E$20:$S$25
Name checkCell_List06_10: 'Форма 1.11.3 | Т-подкл'!$M$19:$AL$30
Name checkCell_List06_10_double_date: 'Форма 1.11.3 | Т-подкл'!$AM$19:$AM$30
Name checkCell_List06_10_plata1: 'Форма 1.11.3 | Т-подкл'!$AC$15:$AD$30
Name checkCell_List06_10_plata2: 'Форма 1.11.3 | Т-подкл'!$AE$15:$AF$30
Name checkCell_List06_10_unique: 'Форма 1.11.3 | Т-подкл'!$AN$19:$AN$30
Name checkCell_List06_2: 'Форма 1.11.2 | Т-транс'!$M$18:$W$30
Name checkCell_List06_2_double_date: 'Форма 1.11.2 | Т-транс'!$X$18:$X$30
Name checkCell_List06_2_unique_t: 'Форма 1.11.2 | Т-транс'!$M$18:$M$30
Name checkCell_List06_2_unique_t1: 'Форма 1.11.2 | Т-транс'!$Y$18:$Y$30
Name checkCell_List06_5: 'Форма 1.11.2 | Т-гор.вода'!$M$18:$EZ$28
Name checkCell_List06_5_double_date: 'Форма 1.11.2 | Т-гор.вода'!$FA$18:$FA$28
Name checkCell_List06_5_OneR: 'Форма 1.11.2 | Т-гор.вода'!$P$15:$R$28
Name checkCell_List06_5_OneR_1c: 'Форма 1.11.2 | Т-гор.вода'!$P$15:$P$28
Name checkCell_List06_5_OneR_2c: 'Форма 1.11.2 | Т-гор.вода'!$Q$15:$R$28
Name checkCell_List06_5_TwoR: 'Форма 1.11.2 | Т-гор.вода'!$S$15:$W$28
Name checkCell_List06_5_TwoR_1c: 'Форма 1.11.2 | Т-гор.вода'!$S$15:$T$28
Name checkCell_List06_5_TwoR_2c: 'Форма 1.11.2 | Т-гор.вода'!$U$15:$W$28
Name checkCell_List06_5_unique_t: 'Форма 1.11.2 | Т-гор.вода'!$M$18:$M$28
Name checkCell_List06_5_unique_t1: 'Форма 1.11.2 | Т-гор.вода'!$FB$18:$FB$28
Name checkCell_List06_9: 'Форма 1.11.3 | Т-подкл(инд)'!$M$19:$AM$30
Name checkCell_List06_9_double_date: 'Форма 1.11.3 | Т-подкл(инд)'!$AN$19:$AN$30
Name checkCell_List06_9_unique: 'Форма 1.11.3 | Т-подкл(инд)'!$AO$19:$AO$30
Name checkCell_List07: 'Сведения об изменении'!$D$11:$E$13
Name checkCell_List13: 'Форма 1.10'!$D$10:$H$14
Name checkCells_List05_10: 'Форма 1.0.1 | Т-подкл'!$F$7:$I$17
Name checkCells_List05_11: 'Форма 1.0.1 | Форма 1.10'!$F$7:$I$13
Name checkCells_List05_2: 'Форма 1.0.1 | Т-транс'!$F$7:$I$17
Name checkCells_List05_5: 'Форма 1.0.1 | Т-гор.вода'!$F$7:$I$13
Name checkCells_List05_9: 'Форма 1.0.1 | Т-подкл(инд)'!$F$7:$I$17

Sheet modList14_1

Sheet modProv

Sheet Инструкция
AA1: (требуется обновление)
B2: ="Код отчёта: " & GetCode() -> Код отчёта: FAS.JKH.OPEN.INFO.REQUEST.GVS
B3: ="Версия " & GetVersion() -> Версия 1.0.2
B5: Предложение регулируемой организации об установлении тарифов в сфере горячего водоснабжения, информация о способах приобретения, стоимости и объемах товаров, необходимых для производства регулируемых товаров и (или) оказания регулируемых услуг
E7: • На рабочем месте должен быть установлен MS Office 2007 SP3, 2010, 2013, 2016 с полной версией MS Excel • Макросы во время работы должны быть включены (!) • Для корректной работы отчёта требуется выбрать низкий уровень безопасности (В меню MS Excel 2007/2010/2013/2016: Параметры Excel | Центр управления безопасностью | Параметры центра управления безопасностью | Параметры макросов | Включить все макросы | ОК) • Если Вы работаете в табличном процессоре MS Excel 2007 и выше, то можете использовать для работы формат XLSB (Двоичная книга Excel). При работе в формате XLSB заметно быстрее происходит сохранение файла, а также уменьшается размер по сравнению с форматами XLS и XLSM • Не рекомендуется снимать защиту с листов и каким-либо образом модифицировать защищаемые формулы и расчётные поля, в противном случае, отчёт будет отклонён системой • При сохранении не следует выбирать формат XLSX (Книга Excel), так как в указанном формате макросы, необходимые для работы отчёта, безвозвратно удаляются
E21: A | F21: - необязательные для заполнения | O21: A | P21: - с формулами и константами
E22: A | F22: - обязательные для заполнения | O22: A | P22: - с выбором значений по двойному клику
E35: Если в предложенном Вам списке необходимая организация, МР/МО отсутствуют, обновите реестры с помощью кнопок В результате синхронизации с базой данных список организаций (МР/МО) будет заменён актуальным (механизм синхронизации требует подключения к сети Интернет и основан на использовании протокола HTTPS (TCP порт 443)) Если после обновления Вам не удалось найти необходимую организацию в списке, обратитесь к ответственному за поддержание реестра Вашего региона.
E46: • При сохранении шаблона осуществляется проверка корректности данных, в том числе на наличие значений в ячейках, обязательных для заполнения • Если какая-то ячейка не удовлетворяет условию проверки, на лист «Проверка» добавляется гиперссылка на данную ячейку и указывается причина ошибки • В колонке «Статус» для каждого сообщения возможны 2 значения: ошибка и предупреждение • При наличии сообщений со статусом «Ошибка» шаблон будет отклонён системой и не будет загружен в хранилище данных, сообщения со статусом «Предупреждение» носят информационный характер, и такой шаблон будет принят системой
E58: Обратиться за помощью в службу технической поддержки
E70: Инструкция по загрузке сопроводительных материалов
E71: Инструкция по работе с отчетной формой
E81: Обратиться за помощью в службу технической поддержки
E98: При наличии подключения к Интернет, можно автоматически проверять наличие доступных обновлений. Выберите способ оповещения о наличии обновлений для отчёта:
F100: проверять доступные обновления (рекомендуется) | AA100: y
F102: никогда не проверять наличие обновлений (не рекомендуется)

Sheet Лог обновления
A1: Дата/Время | B1: Сообщение | C1: Статус
A2: 43946.698 | B2: Проверка доступных обновлений... | C2: Информация
A3: 43946.698 | B3: Нет доступных обновлений для отчёта с кодом FAS.JKH.OPEN.INFO.REQUEST.GVS! | C3: Информация
A4: 43946.698 | B4: Проверка доступных обновлений... | C4: Информация
A5: 43946.698 | B5: Нет доступных обновлений для отчёта с кодом FAS.JKH.OPEN.INFO.REQUEST.GVS! | C5: Информация
A6: 43946.699 | B6: Проверка доступных обновлений... | C6: Информация
A7: 43946.699 | B7: Нет доступных обновлений для отчёта с кодом FAS.JKH.OPEN.INFO.REQUEST.GVS! | C7: Информация
A8: 43946.711 | B8: Проверка доступных обновлений... | C8: Информация
A9: 43946.711 | B9: Нет доступных обновлений для отчёта с кодом FAS.JKH.OPEN.INFO.REQUEST.GVS! | C9: Информация

Sheet Титульный
F1: 28425154
E2: ="Код шаблона: " & GetCode() -> Код шаблона: FAS.JKH.OPEN.INFO.REQUEST.GVS
E3: ="Версия " & GetVersion() -> Версия 1.0.2
E5: Предложение регулируемой организации об установлении тарифов в сфере горячего водоснабжения, информация о способах приобретения, стоимости и объемах товаров, необходимых для производства регулируемых товаров и (или) оказания регулируемых услуг
E7: Субъект РФ | F7: Нижегородская область
E9: Отсутствует Интернет в границах территории МО, где организация осуществляет регулируемые виды деятельности | F9: нет
E11: Начало периода регулирования | F11: 01.01.2019
E12: Окончание периода регулирования | F12: 31.12.2023
E14: Тип отчета | F14: изменения в раскрытой ранее информации
E15: Дата внесения изменений в информацию, подлежащую раскрытию | F15: 15.04.2020
E16: Дата периода регулирования, с которой предлагаются изменения в тарифы | F16: 01.01.2021
F17: Первичное предложение по тарифам
E19: Дата подачи заявления об утверждении тарифов | F19: 23.04.2018
E20: Номер подачи заявления об утверждении тарифов | F20: 517
F22: Изменение тарифов
E24: Дата подачи заявления об изменении тарифов | F24: 15.04.2020
E25: Номер заявления об изменении тарифов | F25: 215
E28: Является ли данное юридическое лицо подразделением (филиалом) другой организации | F28: нет
E29: Наименование организации | F29: ООО "Профит"
E30: Наименование филиала
E31: ИНН | F31: 5262287335
E32: КПП | F32: 525801001
E34: Режим налогообложения | F34: общий
E38: Почтовый адрес регулируемой организации | F38: 603034. Нижний Новгород, ш.Комсомольское, д.2а, офис 304
E39: Фамилия, имя, отчество руководителя | F39: Удалов Борис Вадимович
F40: Ответственный за заполнение формы
E41: Фамилия, имя, отчество | F41: Липатова Людмила Петровна
E42: Должность | F42: ведущий специалист
E43: Контактный телефон | F43: 8(831)2786308
E44: E-mail | F44: om1997 @mail.ru

Sheet Территории
K1: МО | L1: ОКТМО | M1: МР
D4: Перечень муниципальных районов и муниципальных образований (территорий действия тарифа)
F6: да
D8: Территория действия тарифа | F8: Муниципальный район | I8: Муниципальное образование
D9: № п/п | E9: Наименование | F9: № п/п | H9: Наименование | I9: № п/п | K9: Наименование | L9: ОКТМО
D10: 1 | E10: 2 | F10: 3 | H10: 4 | I10: 5 | K10: 6 | L10: 7
D11: 0 | M11: размерженный МР | P11: флаг используемости территории на листе Перечень тарифов | Q11: копия территорий | R11: МР (ОКТМО)
B12: auto | D12: 1 | E12: город Нижний Новгород, город Нижний Новгород (22701000); | G12: 0 | J12: 0 | M12: =mergeValue(H12) -> 0 | P12: =IF(ISERROR(MATCH(Q12,MODesc,0)),"n","y") -> n | Q12: город Нижний Новгород, город Нижний Новгород (22701000); | R12: =K12&"("&L12&")" -> ()
B13: auto | G13: 1 | H13: город Нижний Новгород | J13: 0 | M13: =mergeValue(H13) -> город Нижний Новгород | R13: =K13&"("&L13&")" -> ()
B14: auto | J14: 1 | K14: город Нижний Новгород | L14: 22701000 | M14: =mergeValue(H14) -> город Нижний Новгород | R14: =K14&" ("&L14&")" -> город Нижний Новгород (22701000)
B15: man | Q15: Добавить территорию действия тарифа

Sheet Перечень тарифов
D5: Перечень тарифов и технологически не связанных между собой централизованных систем горячего водоснабжения, в отношении которых предлагаются различные тарифы в сфере горячего водоснабжения
E11: Компонент на холодную воду в тарифе на горячую воду установлен с разбивкой по поставщикам | G11: нет
D17: № п/п | E17: Вид тарифа | F17: Вид деятельности | G17: Наличие двухставочного тарифа | H17: № п/п | J17: Наименование тарифа | K17: Дифференциация по МО (территориям) | O17: Дифференциация по централизованным системам горячего водоснабжения | S17: Примечание
K18: да/нет | L18: № п/п | N18: Описание | O18: да/нет | P18: № п/п | R18: Описание
D19: 1 | E19: 2 | F19: 3 | G19: 4 | H19: 5 | J19: 6 | K19: 7 | L19: 8 | N19: 9 | O19: 10 | P19: 11 | R19: 12 | S19: 13
D20: 0
A21: 5 | D21: 1 | E21: Тариф на горячую воду в закрытой системе горячего водоснабжения (горячее водоснабжение) | F21: Горячее водоснабжение | G21: да | I21: 1 | J21: тариф на горячую воду | K21: нет | M21: 1 | O21: нет | Q21: 1

Sheet Форма 1.0.1 | Форма 1.10
A1: 11
F2: Форма 1.0.1 Основные параметры раскрываемой информации 1
F4: Параметры формы | I4: Описание параметров формы
F5: № п/п | G5: Наименование параметра | H5: Информация
F6: 1 | G6: 2 | H6: 3 | I6: 4 | J6: 4
F7: 1 | G7: Дата заполнения/внесения изменений | H7: =IF(dateCh="","",dateCh) -> 15.04.2020 | I7: Указывается календарная дата первичного заполнения или внесения изменений в форму в виде «ДД.ММ.ГГГГ».
A8: 1 | F8: ="2." &mergeValue(A8) -> 2.1 | G8: Наименование централизованной системы коммунальной инфраструктуры | H8: =IF('Перечень тарифов'!R21="","наименование отсутствует","" & 'Перечень тарифов'!R21 & "") -> наименование отсутствует | I8: Указывается наименование централизованной системы холодного водоснабжения/горячего водоснабжения/водоотведения/теплоснабжения, к которой относится размещаемая информация. В случае наличия нескольких централизованных систем коммунальной инфраструктуры, информация по каждой из них указывается в отдельной строке.
F9: ="3." &mergeValue(A9) -> 3.1 | G9: Наименование регулируемого вида деятельности | H9: =IF('Перечень тарифов'!F21="","наименование отсутствует","" & 'Перечень тарифов'!F21 & "") -> Горячее водоснабжение | I9: Указывается наименование вида регулируемой деятельности.
F10: ="4."&mergeValue(A10) -> 4.1 | G10: Территория оказания услуги по регулируемому виду деятельности | H10: x
B11: 1 | F11: ="4."&mergeValue(A11) &"."&mergeValue(B11) -> 4.1.1 | G11: Субъект Российской Федерации | H11: =IF(region_name="","",region_name) -> Нижегородская область | I11: Указывается наименование субъекта Российской Федерации
C12: 1 | F12: ="4."&mergeValue(A12) &"."&mergeValue(B12)&"."&mergeValue(C12) -> 4.1.1.1 | G12: муниципальный район | H12: =IF(Территории!H13="","","" & Территории!H13 & "") -> город Нижний Новгород | I12: Указывается наименование муниципального района, на территории которого организация оказывает услуги по регулируемому виду деятельности.
D13: 1 | F13: ="4."&mergeValue(A13) &"."&mergeValue(B13)&"."&mergeValue(C13)&"."&mergeValue(D13) -> 4.1.1.1.1 | G13: муниципальное образование | H13: =IF(Территории!R14="","","" & Территории!R14 & "") -> город Нижний Новгород (22701000) | I13: Указывается наименование и код муниципального района, муниципального образования в соответствии с Общероссийским классификатором территорий муниципальных образований (далее - ОКТМО), входящего в муниципальный район, на территории которого организация оказывает услуги по регулируемому виду деятельности. В случае оказания услуг по регулируемому виду деятельности на территории нескольких муниципальных районов (муниципальных образований) данные по каждому их них указываются в отдельной строке.
G15: 1 Информация размещается при раскрытии информации по каждой из форм.

Sheet Форма 1.10
D5: Форма 1.10 Информация о способах приобретения, стоимости и объемах товаров, необходимых для производства регулируемых товаров и (или) оказания регулируемых услуг регулируемой организацией
D7: Параметры формы | H7: Описание параметров формы
D8: № п/п | E8: Наименование параметра | F8: Информация | G8: Ссылка на документ
D9: 1 | E9: 2 | F9: 3 | G9: 4 | H9: 5
D10: 1 | E10: Сведения о правовых актах, регламентирующих правила закупки (положение о закупках) в регулируемой организации | F10: profit-portal.ru | G10: https://regportal-tariff.ru/disclo/get_file?p_guid=1c66a7f3-9516-45ed-b4e3-0e0be1241677 | H10: В колонке «Информация» указывается описательная информация, характеризующая размещаемые данные. В колонке «Ссылка на документ» указывается либо ссылка на документ, предварительно загруженный в хранилище файлов ФГИС ЕИАС, либо ссылка на официальный сайт в сети «Интернет», на котором размещена информация. В случае наличия дополнительных сведений о способах приобретения, стоимости и объемах товаров, необходимых для производства регулируемых товаров и (или) оказания регулируемых услуг регулируемой организацией, информация по ним указывается в отдельных строках.
D11: 2 | E11: Сведения о месте размещения положения о закупках регулируемой организации | F11: profit-portal.ru | G11: https://regportal-tariff.ru/disclo/get_file?p_guid=1c66a7f3-9516-45ed-b4e3-0e0be1241677
D12: 3 | E12: Сведения о планировании закупочных процедур | F12: profit-portal.ru | G12: https://regportal-tariff.ru/disclo/get_file?p_guid=1c66a7f3-9516-45ed-b4e3-0e0be1241677
D13: 4 | E13: Сведения о результатах проведения закупочных процедур | F13: profit-portal.ru | G13: https://regportal-tariff.ru/disclo/get_file?p_guid=1c66a7f3-9516-45ed-b4e3-0e0be1241677
E14: Добавить сведения

Sheet Форма 1.0.1 | Форма 1.11.1
A1: 11
F2: Форма 1.0.1 Основные параметры раскрываемой информации 1
F4: Параметры формы | I4: Описание параметров формы
F5: № п/п | G5: Наименование параметра | H5: Информация
F6: 1 | G6: 2 | H6: 3 | I6: 4 | J6: 4
F7: 1 | G7: Дата заполнения/внесения изменений | H7: =IF(dateCh="","",dateCh) -> 15.04.2020 | I7: Указывается календарная дата первичного заполнения или внесения изменений в форму в виде «ДД.ММ.ГГГГ».
A8: 1 | F8: ="2." &mergeValue(A8) -> 2.1 | G8: Наименование централизованной системы коммунальной инфраструктуры | H8: =IF('Перечень тарифов'!R21="","наименование отсутствует","" & 'Перечень тарифов'!R21 & "") -> наименование отсутствует | I8: Указывается наименование централизованной системы холодного водоснабжения/горячего водоснабжения/водоотведения/теплоснабжения, к которой относится размещаемая информация. В случае наличия нескольких централизованных систем коммунальной инфраструктуры, информация по каждой из них указывается в отдельной строке.
F9: ="3." &mergeValue(A9) -> 3.1 | G9: Наименование регулируемого вида деятельности | H9: =IF('Перечень тарифов'!F21="","наименование отсутствует","" & 'Перечень тарифов'!F21 & "") -> Горячее водоснабжение | I9: Указывается наименование вида регулируемой деятельности.
F10: ="4."&mergeValue(A10) -> 4.1 | G10: Территория оказания услуги по регулируемому виду деятельности | H10: x
B11: 1 | F11: ="4."&mergeValue(A11) &"."&mergeValue(B11) -> 4.1.1 | G11: Субъект Российской Федерации | H11: =IF(region_name="","",region_name) -> Нижегородская область | I11: Указывается наименование субъекта Российской Федерации
C12: 1 | F12: ="4."&mergeValue(A12) &"."&mergeValue(B12)&"."&mergeValue(C12) -> 4.1.1.1 | G12: муниципальный район | H12: =IF(Территории!H13="","","" & Территории!H13 & "") -> город Нижний Новгород | I12: Указывается наименование муниципального района, на территории которого организация оказывает услуги по регулируемому виду деятельности.
D13: 1 | F13: ="4."&mergeValue(A13) &"."&mergeValue(B13)&"."&mergeValue(C13)&"."&mergeValue(D13) -> 4.1.1.1.1 | G13: муниципальное образование | H13: =IF(Территории!R14="","","" & Территории!R14 & "") -> город Нижний Новгород (22701000) | I13: Указывается наименование и код муниципального района, муниципального образования в соответствии с Общероссийским классификатором территорий муниципальных образований (далее - ОКТМО), входящего в муниципальный район, на территории которого организация оказывает услуги по регулируемому виду деятельности. В случае оказания услуг по регулируемому виду деятельности на территории нескольких муниципальных районов (муниципальных образований) данные по каждому их них указываются в отдельной строке.
G15: 1 Информация размещается при раскрытии информации по каждой из форм.

Sheet Форма 1.11.1
D5: Форма 1.11.1 Информация о предложении об установлении тарифов в сфере горячего водоснабжения на очередной период регулирования1
E7: ="Дата подачи заявления об "&IF(datePr_ch="","утверждении","изменении") & " тарифов" -> Дата подачи заявления об изменении тарифов | F7: =IF(datePr_ch="",IF(datePr="","",datePr),datePr_ch) -> 15.04.2020
E8: ="Номер подачи заявления об "&IF(numberPr_ch="","утверждении","изменении") & " тарифов" -> Номер подачи заявления об изменении тарифов | F8: =IF(numberPr_ch="",IF(numberPr="","",numberPr),numberPr_ch) -> 215
D10: Параметры формы | L10: Описание параметров формы
D11: № п/п | E11: Вид тарифа | F11: Наименование тарифа | G11: Период действия тарифов | J11: Информация | K11: Ссылка на документ
G12: с | I12: по
D13: 1 | E13: 2 | F13: 3 | G13: 4 | I13: 5 | J13: 6 | K13: 7 | L13: 8
D14: 1 | E14: Копия инвестиционной программы, утвержденной в установленном законодательством Российской Федерации порядке, а до ее утверждения копия проекта инвестиционной программы
D15: 1.1 | E15: x | F15: x | G15: x | I15: x | J15: отсутствует | L15: Заполняется в случае наличия инвестиционной программы (проекта инвестиционной программы) в отчетном периоде. В колонке «Информация» указывается наименование инвестиционной программы. В колонке «Ссылка на документ» указывается ссылка на документ, предварительно загруженный в хранилище файлов ФГИС ЕИАС.
B16: 3 | D16: 2 | E16: Предлагаемый метод регулирования | J16: x
D17: 2.1 | E17: =IF('Перечень тарифов'!E21="","наименование отсутствует","" & 'Перечень тарифов'!E21 & "") -> Тариф на горячую воду в закрытой системе горячего водоснабжения (горячее водоснабжение) | F17: =IF('Перечень тарифов'!J21="","наименование отсутствует","" & 'Перечень тарифов'!J21 & "") -> тариф на горячую воду | H17: 01.01.2019 | I17: 31.12.2023 | J17: метод индексации установленных тарифов | K17: x | L17: Значение в колонке «Вид тарифа» выбирается из перечня видов тарифов в сфере горячего водоснабжения, предусмотренных законодательством в сфере водоснабжения и водоотведения. Значение в колонке «Информация» выбирается из перечня: Метод экономически обоснованных расходов (затрат); Метод индексации установленных тарифов; Метод обеспечения доходности инвестированного капитала; Метод сравнения аналогов. Даты начала и окончания периода действия тарифов указывается в виде «ДД.ММ.ГГГГ». В случае дифференциации предлагаемых методов регулирования по видам тарифов и (или) по периодам действия тарифов информация по каждому из них указывается в отдельной строке.
H18: Добавить период
B19: 3 | D19: 3 | E19: Долгосрочные параметры регулирования (в случае если их установление предусмотрено выбранным методом регулирования)
D20: 3.1 | E20: x | F20: x | G20: x | I20: x | J20: x | K20: https://portal.eias.ru/Portal/DownloadPage.aspx?type=12&guid=b99fdf6e-9274-4378-9374-3185987908fe | L20: Долгосрочные параметры регулирования указываются в случае выбора любого метода регулирования за исключением метода экономически обоснованных затрат в виде ссылки на документ, предварительно загруженный в хранилище файлов ФГИС ЕИАС.
B21: 3 | D21: 4 | E21: Необходимая валовая выручка на соответствующий период, в том числе с разбивкой по годам
D22: 4.1 | E22: =IF('Перечень тарифов'!E21="","наименование отсутствует","" & 'Перечень тарифов'!E21 & "") -> Тариф на горячую воду в закрытой системе горячего водоснабжения (горячее водоснабжение) | F22: =IF('Перечень тарифов'!J21="","наименование отсутствует","" & 'Перечень тарифов'!J21 & "") -> тариф на горячую воду | H22: 01.01.2021 | I22: 31.12.2021 | J22: 61196.79 | K22: x | L22: Значение в колонке «Вид тарифа» выбирается из перечня видов тарифов в сфере горячего водоснабжения предусмотренных законодательством в сфере водоснабжения и водоотведения. Даты начала и окончания периода действия тарифов указывается в виде «ДД.ММ.ГГГГ». Величина необходимой валовой выручки указывается в колонке «Информация» в тыс. руб. В случае дифференциации необходимой валовой выручки по видам тарифов и (или) по периодам действия тарифов информация указывается в отдельных строках.
G23: О | H23: 01.01.2022 | I23: 31.12.2022 | J23: 63814.51 | K23: x
G24: О | H24: 01.01.2023 | I24: 31.12.2023 | J24: 66106.33 | K24: x
H25: Добавить период
D26: 5 | E26: Годовой объем отпущенной в сеть воды
D27: 5.1 | E27: =IF('Перечень тарифов'!E21="","наименование отсутствует","" & 'Перечень тарифов'!E21 & "") -> Тариф на горячую воду в закрытой системе горячего водоснабжения (горячее водоснабжение) | F27: =IF('Перечень тарифов'!J21="","наименование отсутствует","" & 'Перечень тарифов'!J21 & "") -> тариф на горячую воду | H27: 01.01.2019 | I27: 31.12.2023 | J27: 42 | K27: x | L27: Значение в колонке «Вид тарифа» выбирается из перечня видов тарифов в сфере горячего водоснабжения, предусмотренных законодательством в сфере водоснабжения и водоотведения. Даты начала и окончания периода действия тарифов указывается в виде «ДД.ММ.ГГГГ». Величина годового объема отпущенной в сеть воды указывается в колонке «Информация» в тыс. куб. м. В случае дифференциации объема отпущенной в сеть воды по видам тарифов и (или) по периодам действия тарифов информация указывается в отдельных строках.
H28: Добавить период
D29: 6 | E29: Размер недополученных доходов регулируемой организацией, исчисленный в соответствии с Основами ценообразования в сфере водоснабжения и водоотведения, утвержденными постановлением Правительства Российской Федерации от 13.05.2013 № 406 (Собрание законодательства Российской Федерации, 2013, № 20, ст. 2500; 2017, № 48, ст. 7218)
D30: 6.1 | E30: =IF('Перечень тарифов'!E21="","наименование отсутствует","" & 'Перечень тарифов'!E21 & "") -> Тариф на горячую воду в закрытой системе горячего водоснабжения (горячее водоснабжение) | F30: =IF('Перечень тарифов'!J21="","наименование отсутствует","" & 'Перечень тарифов'!J21 & "") -> тариф на горячую воду | H30: 01.01.2019 | I30: 31.12.2023 | J30: 0 | K30: x | L30: Значение в колонке «Вид тарифа» выбирается из перечня видов тарифов в сфере горячего водоснабжения, предусмотренных законодательством в сфере водоснабжения и водоотведения. Даты начала и окончания периода действия тарифов указывается в виде «ДД.ММ.ГГГГ». Величина недополученных доходов регулируемой организации указывается в колонке «Информация» в тыс. руб. В случае отсутствия недополученных доходов регулируемой организацией, исчисленных в соответствии с законодательством в сфере водоснабжения и водоотведения, указывается значение 0. В случае дифференциации недополученных доходов регулируемой организацией по видам тарифов и/или по периодам действия тарифов информация указывается в отдельных строках. | O30: c 01:03 до 18:55
H31: Добавить период
B32: 3 | D32: 7 | E32: Размер экономически обоснованных расходов, не учтенных при регулировании тарифов в предыдущий период регулирования (при их наличии), определенном в соответствии с законодательством в сфере водоснабжения и водоотведения
D33: 7.1 | E33: =IF('Перечень тарифов'!E21="","наименование отсутствует","" & 'Перечень тарифов'!E21 & "") -> Тариф на горячую воду в закрытой системе горячего водоснабжения (горячее водоснабжение) | F33: =IF('Перечень тарифов'!J21="","наименование отсутствует","" & 'Перечень тарифов'!J21 & "") -> тариф на горячую воду | H33: 01.01.2019 | I33: 31.12.2023 | J33: 0 | K33: x | L33: Значение в колонке «Вид тарифа» выбирается из перечня видов тарифов в сфере горячего водоснабжения, предусмотренных законодательством в сфере водоснабжения и водоотведения. Даты начала и окончания периода действия тарифов указывается в виде «ДД.ММ.ГГГГ». Величина экономически обоснованных расходов, не учтенных при регулировании тарифов в предыдущий период регулирования, указывается в колонке «Информация» в тыс. руб. В случае отсутствия экономически обоснованных расходов, не учтенных при регулировании тарифов в предыдущий период регулирования, определенных в соответствии с законодательством в сфере водоснабжения и водоотведения, указывается значение 0. В случае дифференциации экономически обоснованных расходов по видам тарифов и/или по периодам действия тарифов информация указывается в отдельных строках.
H34: Добавить период
D36: 1 | E36: При размещении информации по данной форме дополнительно указывается дата подачи заявления об утверждении(изменении) тарифов и его номер.

Sheet Форма 1.0.1 | Т-транс
A1: 2
F2: Форма 1.0.1 Основные параметры раскрываемой информации 1
F4: Параметры формы | I4: Описание параметров формы
F5: № п/п | G5: Наименование параметра | H5: Информация
F6: 1 | G6: 2 | H6: 3 | I6: 4 | J6: 4
F7: 1 | G7: Дата заполнения/внесения изменений | H7: =IF(dateCh="","",dateCh) -> 15.04.2020 | I7: Указывается календарная дата первичного заполнения или внесения изменений в форму в виде «ДД.ММ.ГГГГ».
A8: 1 | F8: ="2." &mergeValue(A8) -> 2.1 | G8: Наименование централизованной системы коммунальной инфраструктуры | I8: Указывается наименование централизованной системы холодного водоснабжения/горячего водоснабжения/водоотведения/теплоснабжения, к которой относится размещаемая информация. В случае наличия нескольких централизованных систем коммунальной инфраструктуры, информация по каждой из них указывается в отдельной строке.
F9: ="3." &mergeValue(A9) -> 3.1 | G9: Наименование регулируемого вида деятельности | I9: Указывается наименование вида регулируемой деятельности.
F10: ="4."&mergeValue(A10) -> 4.1 | G10: Территория оказания услуги по регулируемому виду деятельности | H10: x
B11: 1 | F11: ="4."&mergeValue(A11) &"."&mergeValue(B11) -> 4.1.1 | G11: Субъект Российской Федерации | H11: =IF(region_name="","",region_name) -> Нижегородская область | I11: Указывается наименование субъекта Российской Федерации
C12: 1 | F12: ="4."&mergeValue(A12) &"."&mergeValue(B12)&"."&mergeValue(C12) -> 4.1.1.1 | G12: муниципальный район | I12: Указывается наименование муниципального района, на территории которого организация оказывает услуги по регулируемому виду деятельности.
D13: 1 | F13: ="4."&mergeValue(A13) &"."&mergeValue(B13)&"."&mergeValue(C13)&"."&mergeValue(D13) -> 4.1.1.1.1 | G13: муниципальное образование | I13: Указывается наименование и код муниципального района, муниципального образования в соответствии с Общероссийским классификатором территорий муниципальных образований (далее - ОКТМО), входящего в муниципальный район, на территории которого организация оказывает услуги по регулируемому виду деятельности. В случае оказания услуг по регулируемому виду деятельности на территории нескольких муниципальных районов (муниципальных образований) данные по каждому их них указываются в отдельной строке.
G14: Добавить МО
G15: Добавить МР
G16: Добавить территорию
G17: Добавить ЦС
G19: 1 Информация размещается при раскрытии информации по каждой из форм.

Sheet Форма 1.11.2 | Т-транс
L5: Форма 1.11.2 Информация о предложении величин тарифов на горячую воду, транспортировку воды1
M8: ="Дата подачи заявления об "&IF(datePr_ch="","утверждении","изменении") & " тарифов" -> Дата подачи заявления об изменении тарифов | O8: =IF(datePr_ch="",IF(datePr="","",datePr),datePr_ch) -> 15.04.2020
M9: ="Номер подачи заявления об "&IF(numberPr_ch="","утверждении","изменении") & " тарифов" -> Номер подачи заявления об изменении тарифов | O9: =IF(numberPr_ch="",IF(numberPr="","",numberPr),numberPr_ch) -> 215
U11: dp
L13: Параметры формы | W13: Описание параметров формы
L14: № п/п | M14: Параметры дифференциации | O14: Период действия тарифа | U14: Наличие других периодов действия тарифа | V14: Добавить период
O15: Одноставочный тариф | P15: Двухставочный тариф | R15: Период действия
O16: Одноставочный тариф, руб./куб. м | P16: ставка платы за объем поданной воды, руб./куб. м | Q16: ставка платы за содержание мощности, руб./куб. м в час | R16: дата начала | S16: дата окончания
K17: 1 | L17: 1 | M17: 2 | N17: =OFFSET(N17,0,-1) -> 2 | O17: =OFFSET(O17,0,-1)+1 -> 3 | P17: =OFFSET(P17,0,-1)+1 -> 4 | Q17: =OFFSET(Q17,0,-1)+1 -> 5 | R17: =OFFSET(R17,0,-1)+1 -> 6 | S17: =OFFSET(S17,0,-1)+1 -> 7 | U17: =OFFSET(U17,0,-2)+1 -> 8 | V17: =OFFSET(V17,0,-1) -> 8 | W17: =OFFSET(W17,0,-1)+1 -> 9
A18: 1 | L18: =mergeValue(A18) -> 1 | M18: Наименование тарифа | W18: Указывается наименование тарифа в случае подачи предложения по нескольким тарифам. В случае наличия нескольких тарифов информация по ним указывается в отдельных строках.
B19: 1 | L19: =mergeValue(A19) &"."& mergeValue(B19) -> 1.1 | M19: Территория действия тарифа | W19: Указывается наименование территории действия тарифа при наличии дифференциации тарифа по территориальному признаку. В случае дифференциации тарифов по территориальному признаку информация по ним указывается в отдельных строках.
C20: 1 | L20: =mergeValue(A20) &"."& mergeValue(B20)&"."& mergeValue(C20) -> 1.1.1 | M20: Наименование централизованной системы горячего водоснабжения | W20: Указывается наименование централизованной системы горячего водоснабжения при наличии дифференциации тарифа по централизованным системам горячего водоснабжения. В случае дифференциации тарифов по централизованным системам горячего водоснабжения информация по ним указывается в отдельных строках.
D21: 1 | L21: =mergeValue(A21) &"."& mergeValue(B21)&"."& mergeValue(C21)&"."& mergeValue(D21) -> 1.1.1.1 | M21: Наименование признака дифференциации | W21: Указывается наименование дополнительного признака дифференциации (при наличии). Дифференциация тарифа осуществляется в соответствии с законодательством в сфере водоснабжения и водоотведения. В случае дифференциации тарифов по дополнительным признакам информация по ним указывается в отдельных строках.
E22: 1 | L22: =mergeValue(A22) &"."& mergeValue(B22)&"."& mergeValue(C22)&"."& mergeValue(D22)&"."& mergeValue(E22) -> 1.1.1.1.1 | M22: Группа потребителей | W22: Указывается группа потребителей при наличии дифференциации тарифа по группам потребителей. Значение выбирается из перечня: Организации-перепродавцы; Бюджетные организации; Население; Прочие; Без дифференциации. В случае дифференциации тарифов группам потребителей информация по ним указывается в отдельных строках. | Y22: =strCheckUnique(Z22:Z25)
F23: 1 | L23: =mergeValue(A23) &"."& mergeValue(B23)&"."& mergeValue(C23)&"."& mergeValue(D23)&"."& mergeValue(E23)&"."& mergeValue(F23) -> 1.1.1.1.1.1 | S23: да | U23: нет | W23: В колонке «Параметр дифференциации тарифов» указывается значение дополнительного признака дифференциации, либо наименование поставщика в случае наличия дифференциации компонента двухставочного тарифа на холодную воду по поставщикам. При подаче предложения на двухставочный тариф колонка «Одноставочный тариф» не заполняется. При подаче предложения на одноставочный тариф колонки в блоке «Двухставочный тариф» не заполняются. В случае утверждения однокомпонентного двухставочного тарифа данные указываются только в блоке «Двухставочный тариф (однокомпонентный)». В случае утверждения двухкомпонентного двухставочного тарифа данные указываются только в блоке «Двухставочный тариф (двухкомпонентный)». Даты начала и окончания действия тарифов указываются в виде «ДД.ММ.ГГГГ». В случае отсутствия даты окончания действия тарифа в колонке «Дата окончания» указывается «Нет». В случае наличия нескольких значений признака дифференциации тарифов информация по ним указывается в отдельных строках. В случае дифференциации тарифов по периодам действия тарифа информация по ним указывается в отдельных колонках. В случае дифференциации компонента двухставочного тарифа на холодную воду по поставщикам строка "Значение признака дифференциации" не заполняется. В случае отстутствия дифференциации компонента двухставочного тарифа на холодную воду по поставщикам строка "Наименование поставщика" не заполняется. | X23: =strCheckDate(O24:V24) | Z23: =IF(M23="","",M23 )
Q24: =R23 & "-" & T23 -> -
M25: Добавить значение признака дифференциации
M26: Добавить группу потребителей
M27: Добавить наименование признака дифференциации
M28: Добавить наименование системы водоснабжения
M29: Добавить территорию действия тарифа
M30: Добавить наименование тарифа
L32: 1 | M32: Для каждого вида тарифа в сфере горячего водоснабжения форма заполняется отдельно. При размещении информации по данной форме дополнительно указывается дата подачи заявления об утверждении(изменении) тарифа и его номер.

Sheet Форма 1.0.1 | Т-гор.вода
A1: 4
F2: Форма 1.0.1 Основные параметры раскрываемой информации 1
F4: Параметры формы | I4: Описание параметров формы
F5: № п/п | G5: Наименование параметра | H5: Информация
F6: 1 | G6: 2 | H6: 3 | I6: 4 | J6: 4
F7: 1 | G7: Дата заполнения/внесения изменений | H7: =IF(dateCh="","",dateCh) -> 15.04.2020 | I7: Указывается календарная дата первичного заполнения или внесения изменений в форму в виде «ДД.ММ.ГГГГ».
A8: 1 | F8: ="2." &mergeValue(A8) -> 2.1 | G8: Наименование централизованной системы коммунальной инфраструктуры | H8: =IF('Перечень тарифов'!R21="","наименование отсутствует","" & 'Перечень тарифов'!R21 & "") -> наименование отсутствует | I8: Указывается наименование централизованной системы холодного водоснабжения/горячего водоснабжения/водоотведения/теплоснабжения, к которой относится размещаемая информация. В случае наличия нескольких централизованных систем коммунальной инфраструктуры, информация по каждой из них указывается в отдельной строке.
F9: ="3." &mergeValue(A9) -> 3.1 | G9: Наименование регулируемого вида деятельности | H9: =IF('Перечень тарифов'!F21="","наименование отсутствует","" & 'Перечень тарифов'!F21 & "") -> Горячее водоснабжение | I9: Указывается наименование вида регулируемой деятельности.
F10: ="4."&mergeValue(A10) -> 4.1 | G10: Территория оказания услуги по регулируемому виду деятельности | H10: x
B11: 1 | F11: ="4."&mergeValue(A11) &"."&mergeValue(B11) -> 4.1.1 | G11: Субъект Российской Федерации | H11: =IF(region_name="","",region_name) -> Нижегородская область | I11: Указывается наименование субъекта Российской Федерации
C12: 1 | F12: ="4."&mergeValue(A12) &"."&mergeValue(B12)&"."&mergeValue(C12) -> 4.1.1.1 | G12: муниципальный район | H12: =IF(Территории!H13="","","" & Территории!H13 & "") -> город Нижний Новгород | I12: Указывается наименование муниципального района, на территории которого организация оказывает услуги по регулируемому виду деятельности.
D13: 1 | F13: ="4."&mergeValue(A13) &"."&mergeValue(B13)&"."&mergeValue(C13)&"."&mergeValue(D13) -> 4.1.1.1.1 | G13: муниципальное образование | H13: =IF(Территории!R14="","","" & Территории!R14 & "") -> город Нижний Новгород (22701000) | I13: Указывается наименование и код муниципального района, муниципального образования в соответствии с Общероссийским классификатором территорий муниципальных образований (далее - ОКТМО), входящего в муниципальный район, на территории которого организация оказывает услуги по регулируемому виду деятельности. В случае оказания услуг по регулируемому виду деятельности на территории нескольких муниципальных районов (муниципальных образований) данные по каждому их них указываются в отдельной строке.
G15: 1 Информация размещается при раскрытии информации по каждой из форм.

Sheet Форма 1.11.2 | Т-гор.вода
L5: Форма 1.11.2 Информация о предложении величин тарифов на горячую воду, транспортировку воды1
M8: ="Дата подачи заявления об "&IF(datePr_ch="","утверждении","изменении") & " тарифов" -> Дата подачи заявления об изменении тарифов | P8: =IF(datePr_ch="",IF(datePr="","",datePr),datePr_ch) -> 15.04.2020
M9: ="Номер подачи заявления об "&IF(numberPr_ch="","утверждении","изменении") & " тарифов" -> Номер подачи заявления об изменении тарифов | P9: =IF(numberPr_ch="",IF(numberPr="","",numberPr),numberPr_ch) -> 215
AB11: dp | AP11: dp | BD11: dp | BR11: dp | CF11: dp | CT11: dp | DH11: dp | DV11: dp | EJ11: dp | EX11: dp
AC12: О | AQ12: О | BE12: О | BS12: О | CG12: О | CU12: О | DI12: О | DW12: О | EK12: О
L13: Параметры формы | EZ13: Описание параметров формы
L14: № п/п | M14: Параметры дифференциации | O14: Период действия тарифа | AB14: Наличие других периодов действия тарифа | AC14: Период действия тарифа | AP14: Наличие других периодов действия тарифа | AQ14: Период действия тарифа | BD14: Наличие других периодов действия тарифа | BE14: Период действия тарифа | BR14: Наличие других периодов действия тарифа | BS14: Период действия тарифа | CF14: Наличие других периодов действия тарифа | CG14: Период действия тарифа | CT14: Наличие других периодов действия тарифа | CU14: Период действия тарифа | DH14: Наличие других периодов действия тарифа | DI14: Период действия тарифа | DV14: Наличие других периодов действия тарифа | DW14: Период действия тарифа | EJ14: Наличие других периодов действия тарифа | EK14: Период действия тарифа | EX14: Наличие других периодов действия тарифа | EY14: Добавить период
P15: Одноставочный тариф | Q15: Одноставочный тариф (двухкомпонентный) | S15: Двухставочный тариф (однокомпонентный) | U15: Двухставочный тариф (двухкомпонентный) | Y15: Период действия | AD15: Одноставочный тариф | AE15: Одноставочный тариф (двухкомпонентный) | AG15: Двухставочный тариф (однокомпонентный) | AI15: Двухставочный тариф (двухкомпонентный) | AM15: Период действия | AR15: Одноставочный тариф | AS15: Одноставочный тариф (двухкомпонентный) | AU15: Двухставочный тариф (однокомпонентный) | AW15: Двухставочный тариф (двухкомпонентный) | BA15: Период действия | BF15: Одноставочный тариф | BG15: Одноставочный тариф (двухкомпонентный) | BI15: Двухставочный тариф (однокомпонентный) | BK15: Двухставочный тариф (двухкомпонентный) | BO15: Период действия | BT15: Одноставочный тариф | BU15: Одноставочный тариф (двухкомпонентный) | BW15: Двухставочный тариф (однокомпонентный) | BY15: Двухставочный тариф (двухкомпонентный) | CC15: Период действия | CH15: Одноставочный тариф | CI15: Одноставочный тариф (двухкомпонентный) | CK15: Двухставочный тариф (однокомпонентный) | CM15: Двухставочный тариф (двухкомпонентный) | CQ15: Период действия | CV15: Одноставочный тариф | CW15: Одноставочный тариф (двухкомпонентный) | CY15: Двухставочный тариф (однокомпонентный) | DA15: Двухставочный тариф (двухкомпонентный) | DE15: Период действия | DJ15: Одноставочный тариф | DK15: Одноставочный тариф (двухкомпонентный) | DM15: Двухставочный тариф (однокомпонентный) | DO15: Двухставочный тариф (двухкомпонентный) | DS15: Период действия | DX15: Одноставочный тариф | DY15: Одноставочный тариф (двухкомпонентный) | EA15: Двухставочный тариф (однокомпонентный) | EC15: Двухставочный тариф (двухкомпонентный) | EG15: Период действия | EL15: Одноставочный тариф | EM15: Одноставочный тариф (двухкомпонентный) | EO15: Двухставочный тариф (однокомпонентный) | EQ15: Двухставочный тариф (двухкомпонентный) | EU15: Период действия
P16: Одноставочный тариф, руб./куб. м | Q16: Компонент на холодную воду, руб./куб.м | R16: Компонент на тепловую энергию, руб./Гкал | S16: Ставка платы за потребление горячей воды, руб./куб. м | T16: Ставка платы за содержание системы горячего водоснабжения, руб./Гкал в час | U16: Ставка платы за объем поданной холодной воды, руб./куб. м | V16: Ставка платы за содержание мощности, руб./куб. м в час | W16: Компонент на тепловую энергию, руб./Гкал | Y16: дата начала | Z16: дата окончания | AD16: Одноставочный тариф, руб./куб. м | AE16: Компонент на холодную воду, руб./куб.м | AF16: Компонент на тепловую энергию, руб./Гкал | AG16: Ставка платы за потребление горячей воды, руб./куб. м | AH16: Ставка платы за содержание системы горячего водоснабжения, руб./Гкал в час | AI16: Ставка платы за объем поданной холодной воды, руб./куб. м | AJ16: Ставка платы за содержание мощности, руб./куб. м в час | AK16: Компонент на тепловую энергию, руб./Гкал | AM16: дата начала | AN16: дата окончания | AR16: Одноставочный тариф, руб./куб. м | AS16: Компонент на холодную воду, руб./куб.м | AT16: Компонент на тепловую энергию, руб./Гкал | AU16: Ставка платы за потребление горячей воды, руб./куб. м | AV16: Ставка платы за содержание системы горячего водоснабжения, руб./Гкал в час | AW16: Ставка платы за объем поданной холодной воды, руб./куб. м | AX16: Ставка платы за содержание мощности, руб./куб. м в час | AY16: Компонент на тепловую энергию, руб./Гкал | BA16: дата начала | BB16: дата окончания | BF16: Одноставочный тариф, руб./куб. м | BG16: Компонент на холодную воду, руб./куб.м | BH16: Компонент на тепловую энергию, руб./Гкал | BI16: Ставка платы за потребление горячей воды, руб./куб. м | BJ16: Ставка платы за содержание системы горячего водоснабжения, руб./Гкал в час | BK16: Ставка платы за объем поданной холодной воды, руб./куб. м | BL16: Ставка платы за содержание мощности, руб./куб. м в час | BM16: Компонент на тепловую энергию, руб./Гкал | BO16: дата начала | BP16: дата окончания | BT16: Одноставочный тариф, руб./куб. м | BU16: Компонент на холодную воду, руб./куб.м | BV16: Компонент на тепловую энергию, руб./Гкал | BW16: Ставка платы за потребление горячей воды, руб./куб. м | BX16: Ставка платы за содержание системы горячего водоснабжения, руб./Гкал в час | BY16: Ставка платы за объем поданной холодной воды, руб./куб. м | BZ16: Ставка платы за содержание мощности, руб./куб. м в час | CA16: Компонент на тепловую энергию, руб./Гкал | CC16: дата начала | CD16: дата окончания | CH16: Одноставочный тариф, руб./куб. м | CI16: Компонент на холодную воду, руб./куб.м | CJ16: Компонент на тепловую энергию, руб./Гкал | CK16: Ставка платы за потребление горячей воды, руб./куб. м | CL16: Ставка платы за содержание системы горячего водоснабжения, руб./Гкал в час | CM16: Ставка платы за объем поданной холодной воды, руб./куб. м | CN16: Ставка платы за содержание мощности, руб./куб. м в час | CO16: Компонент на тепловую энергию, руб./Гкал | CQ16: дата начала | CR16: дата окончания | CV16: Одноставочный тариф, руб./куб. м | CW16: Компонент на холодную воду, руб./куб.м | CX16: Компонент на тепловую энергию, руб./Гкал | CY16: Ставка платы за потребление горячей воды, руб./куб. м | CZ16: Ставка платы за содержание системы горячего водоснабжения, руб./Гкал в час | DA16: Ставка платы за объем поданной холодной воды, руб./куб. м | DB16: Ставка платы за содержание мощности, руб./куб. м в час | DC16: Компонент на тепловую энергию, руб./Гкал | DE16: дата начала | DF16: дата окончания | DJ16: Одноставочный тариф, руб./куб. м | DK16: Компонент на холодную воду, руб./куб.м | DL16: Компонент на тепловую энергию, руб./Гкал | DM16: Ставка платы за потребление горячей воды, руб./куб. м | DN16: Ставка платы за содержание системы горячего водоснабжения, руб./Гкал в час | DO16: Ставка платы за объем поданной холодной воды, руб./куб. м | DP16: Ставка платы за содержание мощности, руб./куб. м в час | DQ16: Компонент на тепловую энергию, руб./Гкал | DS16: дата начала | DT16: дата окончания | DX16: Одноставочный тариф, руб./куб. м | DY16: Компонент на холодную воду, руб./куб.м | DZ16: Компонент на тепловую энергию, руб./Гкал | EA16: Ставка платы за потребление горячей воды, руб./куб. м | EB16: Ставка платы за содержание системы горячего водоснабжения, руб./Гкал в час | EC16: Ставка платы за объем поданной холодной воды, руб./куб. м | ED16: Ставка платы за содержание мощности, руб./куб. м в час | EE16: Компонент на тепловую энергию, руб./Гкал | EG16: дата начала | EH16: дата окончания | EL16: Одноставочный тариф, руб./куб. м | EM16: Компонент на холодную воду, руб./куб.м | EN16: Компонент на тепловую энергию, руб./Гкал | EO16: Ставка платы за потребление горячей воды, руб./куб. м | EP16: Ставка платы за содержание системы горячего водоснабжения, руб./Гкал в час | EQ16: Ставка платы за объем поданной холодной воды, руб./куб. м | ER16: Ставка платы за содержание мощности, руб./куб. м в час | ES16: Компонент на тепловую энергию, руб./Гкал | EU16: дата начала | EV16: дата окончания
K17: 1 | L17: 1 | M17: 2 | N17: =OFFSET(N17,0,-1) -> 2 | O17: =OFFSET(O17,0,-1) -> 2 | P17: =OFFSET(P17,0,-1)+1 -> 3 | Q17: =OFFSET(Q17,0,-1)+1 -> 4 | R17: =OFFSET(R17,0,-1)+1 -> 5 | S17: =OFFSET(S17,0,-1)+1 -> 6 | T17: =OFFSET(T17,0,-1)+1 -> 7 | U17: =OFFSET(U17,0,-1)+1 -> 8 | V17: =OFFSET(V17,0,-1)+1 -> 9 | W17: =OFFSET(W17,0,-1)+1 -> 10 | X17: =OFFSET(X17,0,-1) -> 10 | Y17: =OFFSET(Y17,0,-1)+1 -> 11 | Z17: =OFFSET(Z17,0,-1)+1 -> 12 | AB17: =OFFSET(AB17,0,-2)+1 -> 13 | AC17: =OFFSET(AC17,0,-1) -> 13 | AD17: =OFFSET(AD17,0,-1)+1 -> 14 | AE17: =OFFSET(AE17,0,-1)+1 -> 15 | AF17: =OFFSET(AF17,0,-1)+1 -> 16 | AG17: =OFFSET(AG17,0,-1)+1 -> 17 | AH17: =OFFSET(AH17,0,-1)+1 -> 18 | AI17: =OFFSET(AI17,0,-1)+1 -> 19 | AJ17: =OFFSET(AJ17,0,-1)+1 -> 20 | AK17: =OFFSET(AK17,0,-1)+1 -> 21 | AL17: =OFFSET(AL17,0,-1) -> 21 | AM17: =OFFSET(AM17,0,-1)+1 -> 22 | AN17: =OFFSET(AN17,0,-1)+1 -> 23 | AP17: =OFFSET(AP17,0,-2)+1 -> 24 | AQ17: =OFFSET(AQ17,0,-1) -> 24 | AR17: =OFFSET(AR17,0,-1)+1 -> 25 | AS17: =OFFSET(AS17,0,-1)+1 -> 26 | AT17: =OFFSET(AT17,0,-1)+1 -> 27 | AU17: =OFFSET(AU17,0,-1)+1 -> 28 | AV17: =OFFSET(AV17,0,-1)+1 -> 29 | AW17: =OFFSET(AW17,0,-1)+1 -> 30 | AX17: =OFFSET(AX17,0,-1)+1 -> 31 | AY17: =OFFSET(AY17,0,-1)+1 -> 32 | AZ17: =OFFSET(AZ17,0,-1) -> 32 | BA17: =OFFSET(BA17,0,-1)+1 -> 33 | BB17: =OFFSET(BB17,0,-1)+1 -> 34 | BD17: =OFFSET(BD17,0,-2)+1 -> 35 | BE17: =OFFSET(BE17,0,-1) -> 35 | BF17: =OFFSET(BF17,0,-1)+1 -> 36 | BG17: =OFFSET(BG17,0,-1)+1 -> 37 | BH17: =OFFSET(BH17,0,-1)+1 -> 38 | BI17: =OFFSET(BI17,0,-1)+1 -> 39 | BJ17: =OFFSET(BJ17,0,-1)+1 -> 40 | BK17: =OFFSET(BK17,0,-1)+1 -> 41 | BL17: =OFFSET(BL17,0,-1)+1 -> 42 | BM17: =OFFSET(BM17,0,-1)+1 -> 43 | BN17: =OFFSET(BN17,0,-1) -> 43 | BO17: =OFFSET(BO17,0,-1)+1 -> 44 | BP17: =OFFSET(BP17,0,-1)+1 -> 45 | BR17: =OFFSET(BR17,0,-2)+1 -> 46 | BS17: =OFFSET(BS17,0,-1) -> 46 | BT17: =OFFSET(BT17,0,-1)+1 -> 47 | BU17: =OFFSET(BU17,0,-1)+1 -> 48 | BV17: =OFFSET(BV17,0,-1)+1 -> 49 | BW17: =OFFSET(BW17,0,-1)+1 -> 50 | BX17: =OFFSET(BX17,0,-1)+1 -> 51 | BY17: =OFFSET(BY17,0,-1)+1 -> 52 | BZ17: =OFFSET(BZ17,0,-1)+1 -> 53 | CA17: =OFFSET(CA17,0,-1)+1 -> 54 | CB17: =OFFSET(CB17,0,-1) -> 54 | CC17: =OFFSET(CC17,0,-1)+1 -> 55 | CD17: =OFFSET(CD17,0,-1)+1 -> 56 | CF17: =OFFSET(CF17,0,-2)+1 -> 57 | CG17: =OFFSET(CG17,0,-1) -> 57 | CH17: =OFFSET(CH17,0,-1)+1 -> 58 | CI17: =OFFSET(CI17,0,-1)+1 -> 59 | CJ17: =OFFSET(CJ17,0,-1)+1 -> 60 | CK17: =OFFSET(CK17,0,-1)+1 -> 61 | CL17: =OFFSET(CL17,0,-1)+1 -> 62 | CM17: =OFFSET(CM17,0,-1)+1 -> 63 | CN17: =OFFSET(CN17,0,-1)+1 -> 64 | CO17: =OFFSET(CO17,0,-1)+1 -> 65 | CP17: =OFFSET(CP17,0,-1) -> 65 | CQ17: =OFFSET(CQ17,0,-1)+1 -> 66 | CR17: =OFFSET(CR17,0,-1)+1 -> 67 | CT17: =OFFSET(CT17,0,-2)+1 -> 68 | CU17: =OFFSET(CU17,0,-1) -> 68 | CV17: =OFFSET(CV17,0,-1)+1 -> 69 | CW17: =OFFSET(CW17,0,-1)+1 -> 70 | CX17: =OFFSET(CX17,0,-1)+1 -> 71 | CY17: =OFFSET(CY17,0,-1)+1 -> 72 | CZ17: =OFFSET(CZ17,0,-1)+1 -> 73 | DA17: =OFFSET(DA17,0,-1)+1 -> 74 | DB17: =OFFSET(DB17,0,-1)+1 -> 75 | DC17: =OFFSET(DC17,0,-1)+1 -> 76 | DD17: =OFFSET(DD17,0,-1) -> 76 | DE17: =OFFSET(DE17,0,-1)+1 -> 77 | DF17: =OFFSET(DF17,0,-1)+1 -> 78 | DH17: =OFFSET(DH17,0,-2)+1 -> 79 | DI17: =OFFSET(DI17,0,-1) -> 79 | DJ17: =OFFSET(DJ17,0,-1)+1 -> 80 | DK17: =OFFSET(DK17,0,-1)+1 -> 81 | DL17: =OFFSET(DL17,0,-1)+1 -> 82 | DM17: =OFFSET(DM17,0,-1)+1 -> 83 | DN17: =OFFSET(DN17,0,-1)+1 -> 84 | DO17: =OFFSET(DO17,0,-1)+1 -> 85 | DP17: =OFFSET(DP17,0,-1)+1 -> 86 | DQ17: =OFFSET(DQ17,0,-1)+1 -> 87 | DR17: =OFFSET(DR17,0,-1) -> 87 | DS17: =OFFSET(DS17,0,-1)+1 -> 88 | DT17: =OFFSET(DT17,0,-1)+1 -> 89 | DV17: =OFFSET(DV17,0,-2)+1 -> 90 | DW17: =OFFSET(DW17,0,-1) -> 90 | DX17: =OFFSET(DX17,0,-1)+1 -> 91 | DY17: =OFFSET(DY17,0,-1)+1 -> 92 | DZ17: =OFFSET(DZ17,0,-1)+1 -> 93 | EA17: =OFFSET(EA17,0,-1)+1 -> 94 | EB17: =OFFSET(EB17,0,-1)+1 -> 95 | EC17: =OFFSET(EC17,0,-1)+1 -> 96 | ED17: =OFFSET(ED17,0,-1)+1 -> 97 | EE17: =OFFSET(EE17,0,-1)+1 -> 98 | EF17: =OFFSET(EF17,0,-1) -> 98 | EG17: =OFFSET(EG17,0,-1)+1 -> 99 | EH17: =OFFSET(EH17,0,-1)+1 -> 100 | EJ17: =OFFSET(EJ17,0,-2)+1 -> 101 | EK17: =OFFSET(EK17,0,-1) -> 101 | EL17: =OFFSET(EL17,0,-1)+1 -> 102 | EM17: =OFFSET(EM17,0,-1)+1 -> 103 | EN17: =OFFSET(EN17,0,-1)+1 -> 104 | EO17: =OFFSET(EO17,0,-1)+1 -> 105 | EP17: =OFFSET(EP17,0,-1)+1 -> 106 | EQ17: =OFFSET(EQ17,0,-1)+1 -> 107 | ER17: =OFFSET(ER17,0,-1)+1 -> 108 | ES17: =OFFSET(ES17,0,-1)+1 -> 109 | ET17: =OFFSET(ET17,0,-1) -> 109 | EU17: =OFFSET(EU17,0,-1)+1 -> 110 | EV17: =OFFSET(EV17,0,-1)+1 -> 111 | EX17: =OFFSET(EX17,0,-2)+1 -> 112 | EY17: =OFFSET(EY17,0,-1) -> 112 | EZ17: =OFFSET(EZ17,0,-1)+1 -> 113
A18: 1 | L18: =mergeValue(A18) -> 1 | M18: Наименование тарифа | O18: =IF('Перечень тарифов'!J21="","","" & 'Перечень тарифов'!J21 & "") -> тариф на горячую воду | EZ18: Указывается наименование тарифа в случае утверждения нескольких тарифов. В случае наличия нескольких тарифов информация по ним указывается в отдельных строках.
B19: 1 | L19: =mergeValue(A19) &"."& mergeValue(B19) -> 1.1
C20: 1 | L20: =mergeValue(A20) &"."& mergeValue(B20)&"."& mergeValue(C20) -> 1.1.1
D21: 1 | L21: =mergeValue(A21) &"."& mergeValue(B21)&"."& mergeValue(C21)&"."& mergeValue(D21) -> 1.1.1.1 | M21: Наименование признака дифференциации | EZ21: Указывается наименование дополнительного признака дифференциации (при наличии). Дифференциация тарифа осуществляется в соответствии с законодательством в сфере водоснабжения и водоотведения. В случае дифференциации тарифов по дополнительным признакам информация по ним указывается в отдельных строках.
E22: 1 | L22: =mergeValue(A22) &"."& mergeValue(B22)&"."& mergeValue(C22)&"."& mergeValue(D22)&"."& mergeValue(E22) -> 1.1.1.1.1 | M22: Группа потребителей | O22: прочие | EZ22: Указывается группа потребителей при наличии дифференциации тарифа по группам потребителей. Значение выбирается из перечня: Организации-перепродавцы; Бюджетные организации; Население; Прочие; Без дифференциации. В случае дифференциации тарифов группам потребителей информация по ним указывается в отдельных строках. | FB22: =strCheckUnique(FC22:FC26)
F23: 1 | L23: =mergeValue(A23) &"."& mergeValue(B23)&"."& mergeValue(C23)&"."& mergeValue(D23)&"."& mergeValue(E23)&"."& mergeValue(F23) -> 1.1.1.1.1.1 | U23: 15.5 | V23: 12.30169 | W23: 1833.17 | Y23: 01.01.2019 | Z23: да | AA23: 30.06.2019 | AB23: да | AI23: 15.87 | AJ23: 12.59693 | AK23: 1869.84 | AM23: 01.07.2019 | AN23: да | AO23: 31.12.2019 | AP23: да | AW23: 25.49 | AX23: 7.0762 | AY23: 1869.84 | BA23: 01.01.2020 | BB23: да | BC23: 30.06.2020 | BD23: да | BK23: 26.37 | BL23: 7.0762 | BM23: 1917.98 | BO23: 01.07.2020 | BP23: да | BQ23: 31.12.2020 | BR23: да | BY23: 26.37 | BZ23: 6.20761 | CA23: 2318.66 | CC23: 01.01.2021 | CD23: да | CE23: 30.06.2021 | CF23: да | CM23: 27.42 | CN23: 6.20761 | CO23: 2318.66 | CQ23: 01.07.2021 | CR23: да | CS23: 31.12.2021 | CT23: да | DA23: 27.42 | DB23: 4.87916 | DC23: 2411.4 | DE23: 01.01.2022 | DF23: да | DG23: 30.06.2022 | DH23: да | DO23: 28.52 | DP23: 4.87916 | DQ23: 2411.4 | DS23: 01.07.2022 | DT23: да | DU23: 31.12.2022 | DV23: да | EC23: 28.52 | ED23: 4.87916 | EE23: 2507.86 | EG23: 01.01.2023 | EH23: да | EI23: 30.06.2023 | EJ23: да | EQ23: 28.52 | ER23: 4.87916 | ES23: 2507.86 | EU23: 01.07.2023 | EV23: да | EW23: 31.12.2023 | EX23: нет | EZ23: В колонке «Параметр дифференциации тарифов» указывается значение дополнительного признака дифференциации, либо наименование поставщика в случае наличия дифференциации компонента двухставочного тарифа на холодную воду по поставщикам. При подаче предложения на двухставочный тариф колонка «Одноставочный тариф» не заполняется. При подаче предложения на одноставочный тариф колонки в блоке «Двухставочный тариф» не заполняются. В случае утверждения однокомпонентного двухставочного тарифа данные указываются только в блоке «Двухставочный тариф (однокомпонентный)». В случае утверждения двухкомпонентного двухставочного тарифа данные указываются только в блоке «Двухставочный тариф (двухкомпонентный)». Даты начала и окончания действия тарифов указываются в виде «ДД.ММ.ГГГГ». В случае отсутствия даты окончания действия тарифа в колонке «Дата окончания» указывается «Нет». В случае наличия нескольких значений признака дифференциации тарифов информация по ним указывается в отдельных строках. В случае дифференциации тарифов по периодам действия тарифа информация по ним указывается в отдельных колонках. В случае дифференциации компонента двухставочного тарифа на холодную воду по поставщикам строка "Значение признака дифференциации" не заполняется. В случае отстутствия дифференциации компонента двухставочного тарифа на холодную воду по поставщикам строка "Наименование поставщика" не заполняется. | FA23: =strCheckDate(O24:EY24) | FC23: =IF(M23="","",M23 )
R24: =Y23 & "-" & AA23 -> 01.01.2019-30.06.2019 | AF24: =AM23 & "-" & AO23 -> 01.07.2019-31.12.2019 | AT24: =BA23 & "-" & BC23 -> 01.01.2020-30.06.2020 | BH24: =BO23 & "-" & BQ23 -> 01.07.2020-31.12.2020 | BV24: =CC23 & "-" & CE23 -> 01.01.2021-30.06.2021 | CJ24: =CQ23 & "-" & CS23 -> 01.07.2021-31.12.2021 | CX24: =DE23 & "-" & DG23 -> 01.01.2022-30.06.2022 | DL24: =DS23 & "-" & DU23 -> 01.07.2022-31.12.2022 | DZ24: =EG23 & "-" & EI23 -> 01.01.2023-30.06.2023 | EN24: =EU23 & "-" & EW23 -> 01.07.2023-31.12.2023
M26: Добавить значение признака дифференциации
M27: Добавить группу потребителей
M28: Добавить наименование признака дифференциации
L30: 1 | M30: Для каждого вида тарифа в сфере горячего водоснабжения форма заполняется отдельно. При размещении информации по данной форме дополнительно указывается дата подачи заявления об утверждении(изменении) тарифа и его номер.

Sheet Форма 1.0.1 | Т-подкл(инд)
A1: 9
F2: Форма 1.0.1 Основные параметры раскрываемой информации 1
F4: Параметры формы | I4: Описание параметров формы
F5: № п/п | G5: Наименование параметра | H5: Информация
F6: 1 | G6: 2 | H6: 3 | I6: 4 | J6: 4
F7: 1 | G7: Дата заполнения/внесения изменений | H7: =IF(dateCh="","",dateCh) -> 15.04.2020 | I7: Указывается календарная дата первичного заполнения или внесения изменений в форму в виде «ДД.ММ.ГГГГ».
A8: 1 | F8: ="2." &mergeValue(A8) -> 2.1 | G8: Наименование централизованной системы коммунальной инфраструктуры | I8: Указывается наименование централизованной системы холодного водоснабжения/горячего водоснабжения/водоотведения/теплоснабжения, к которой относится размещаемая информация. В случае наличия нескольких централизованных систем коммунальной инфраструктуры, информация по каждой из них указывается в отдельной строке.
F9: ="3." &mergeValue(A9) -> 3.1 | G9: Наименование регулируемого вида деятельности | I9: Указывается наименование вида регулируемой деятельности.
F10: ="4."&mergeValue(A10) -> 4.1 | G10: Территория оказания услуги по регулируемому виду деятельности | H10: x
B11: 1 | F11: ="4."&mergeValue(A11) &"."&mergeValue(B11) -> 4.1.1 | G11: Субъект Российской Федерации | H11: =IF(region_name="","",region_name) -> Нижегородская область | I11: Указывается наименование субъекта Российской Федерации
C12: 1 | F12: ="4."&mergeValue(A12) &"."&mergeValue(B12)&"."&mergeValue(C12) -> 4.1.1.1 | G12: муниципальный район | I12: Указывается наименование муниципального района, на территории которого организация оказывает услуги по регулируемому виду деятельности.
D13: 1 | F13: ="4."&mergeValue(A13) &"."&mergeValue(B13)&"."&mergeValue(C13)&"."&mergeValue(D13) -> 4.1.1.1.1 | G13: муниципальное образование | I13: Указывается наименование и код муниципального района, муниципального образования в соответствии с Общероссийским классификатором территорий муниципальных образований (далее - ОКТМО), входящего в муниципальный район, на территории которого организация оказывает услуги по регулируемому виду деятельности. В случае оказания услуг по регулируемому виду деятельности на территории нескольких муниципальных районов (муниципальных образований) данные по каждому их них указываются в отдельной строке.
G14: Добавить МО
G15: Добавить МР
G16: Добавить территорию
G17: Добавить ЦС
G19: 1 Информация размещается при раскрытии информации по каждой из форм.

Sheet Форма 1.11.3 | Т-подкл(инд)
L5: Форма 1.11.3 Информация о предложении величин тарифов на подключение к централизованной системе горячего водоснабжения1
M8: ="Дата подачи заявления об "&IF(datePr_ch="","утверждении","изменении") & " тарифов" -> Дата подачи заявления об изменении тарифов | N8: =IF(datePr_ch="",IF(datePr="","",datePr),datePr_ch) -> 15.04.2020
M9: ="Номер подачи заявления об "&IF(numberPr_ch="","утверждении","изменении") & " тарифов" -> Номер подачи заявления об изменении тарифов | N9: =IF(numberPr_ch="",IF(numberPr="","",numberPr),numberPr_ch) -> 215
AD11: NDS | AE11: woNDS | AF11: NDS | AG11: woNDS
AK12: dp
L14: Параметры формы | AM14: Описание параметров формы
L15: № п/п | M15: Параметр дифференциации тарифа/Заявитель | N15: Подключаемая нагрузка водопроводной сети, куб. м/сут | R15: Диапазон диаметров водопроводной сети, мм | V15: Протяженность водопроводной сети, км | Z15: Условия прокладки сетей | AD15: Период действия тарифа | AK15: Наличие других периодов действия тарифа | AL15: Добавить период
AD16: Ставка тарифа за подключаемую нагрузку водопроводной сети, тыс. руб./куб. м в сутки | AF16: Ставка тарифа за протяженность водопроводной сети диаметром d, тыс. руб./км | AH16: Период действия
AD17: С НДС | AE17: Без НДС | AF17: С НДС | AG17: Без НДС | AH17: Дата начала | AI17: Дата окончания
