Workbook
Name _IDОтчета: 178174
Name _IDШаблона: 178176
Name _Параметр_1: "'02.2009'"
Name _Параметр_2: "'105'"
Name _Параметр_3: "'1.27'"
Name _Параметр_4: "'01.09.2008'"
Name _Параметр_5: "'22.09.2008'"
Name _Параметр_6: "'80169210'"
Name activity: Дифференциация!$E$22:$E$25
Name availability_price: TEHSHEET!$K$8
Name CHECK_LINK_RANGE_1: "Калькуляция!$I$11:$I$132"
Name checkCell_List09: Территории!$D$17:$L$17
Name checkDEfCell_List09: Территории!$F$6
Name chkGetUpdatesValue: Инструкция!$AA$81
Name chkNoUpdatesValue: Инструкция!$AA$83
Name code: Инструкция!$B$2
Name copy_f_quart: Титульный!$C$21
Name copy_f_year: Титульный!$C$20
Name count_refusal: 'Форма 1.7'!$G$13:$H$13
Name CURRENT_DATE: TEHSHEET!$G$17
Name data_type: TEHSHEET!$M$2:$M$3
Name DATA_URL: TEHSHEET!$K$11
Name DESCRIPTION_TERRITORY: REESTR_DS!$B$2:$B$3
Name diff_tariff: Титульный!$F$16
Name DocProp_TemplateCode: TEHSHEET!$L$2
Name DocProp_Version: TEHSHEET!$L$1
Name et_Comm: et_union_hor!$5:$5
Name et_hor_List01_2: modList01!$13:$14
Name et_List01_st: 'Форма 1.7'!$2:$2
Name et_List02_mo: et_union_hor!$60:$60
Name et_List02_mr: et_union_hor!$59:$59
Name et_List02_st: et_union_hor!$49:$56
Name et_List02_ter: et_union_hor!$57:$58
Name et_List03: et_union_hor!$45:$45
Name et_List04: et_union_hor!$9:$9
Name et_List07_01: et_union_hor!$29:$31
Name et_List07_04: et_union_hor!$35:$36
Name et_List07_05: et_union_hor!$40:$40
Name et_List09_0: et_union_hor!$15:$16
Name et_List09_1: et_union_hor!$20:$21
Name et_List09_2: et_union_hor!$25:$25
Name et_ver_List01_1: 'Форма 1.7'!$G:$G
Name f_quart: Титульный!$F$21
Name f_year: Титульный!$F$20
Name fil: Титульный!$F$27
Name fil_flag: Титульный!$F$23
Name FirstLine: Инструкция!$A$6
Name flag_publication: Титульный!$F$11:$F$11
Name flag_refusal: 'Форма 1.7'!$G$9:$H$9
Name flagUsedTer_List09: Территории!$P$11:$P$17
Name form_type: Титульный!$F$13
Name form_up_date: Титульный!$F$14
Name gblnRefreshPForms: TEHSHEET!$G$20
Name Info_ChngExcludeHelp_1: modInfo!$B$10
Name Info_DiffExcludeHelp_1: modInfo!$B$5
Name Info_DiffExcludeHelp_2: modInfo!$B$6
Name Info_DiffExcludeHelp_3: modInfo!$B$7
Name Info_DiffExcludeHelp_4: modInfo!$B$8
Name Info_NoUpdates: modInfo!$B$11
Name Info_TerExcludeHelp_1: modInfo!$B$2

Sheet modProv

Sheet Инструкция
AA1: (требуется обновление)
B2: ="Код шаблона: " & GetCode() -> Код шаблона: FAS.JKH.OPEN.INFO.QUARTER.GVS
B3: ="Версия " & Getversion() -> Версия 1.0.1
B5: =Титульный!E5 -> Информация о наличии (отсутствии) технической возможности подключения к централизованной системе горячего водоснабжения, а также о регистрации и ходе реализации заявок о подключении к централизованной системе горячего водоснабжения
E7: • На рабочем месте должен быть установлен MS Office 2007 SP3, 2010, 2013, 2016 с полной версией MS Excel • Макросы во время работы должны быть включены (!) • Для корректной работы отчёта требуется выбрать низкий уровень безопасности (В меню MS Excel 2007/2010/2013/2016: Параметры Excel | Центр управления безопасностью | Параметры центра управления безопасностью | Параметры макросов | Включить все макросы | ОК) • Если Вы работаете в табличном процессоре MS Excel 2007 и выше, то можете использовать для работы формат XLSB (Двоичная книга Excel). При работе в формате XLSB заметно быстрее происходит сохранение файла, а также уменьшается размер по сравнению с форматами XLS и XLSM • Не рекомендуется снимать защиту с листов и каким-либо образом модифицировать защищаемые формулы и расчётные поля, в противном случае, отчёт будет отклонён системой • При сохранении не следует выбирать формат XLSX (Книга Excel), так как в указанном формате макросы, необходимые для работы отчёта, безвозвратно удаляются
E21: A | F21: - не обязательные для заполнения | O21: A | P21: - с формулами и константами
E22: A | F22: - обязательные для заполнения | O22: A | P22: - с выбором значений до двойному клику
E35: Если в предложенном Вам списке необходимая организация, МР/МО отсутствуют, обновите реестры с помощью кнопок В результате синхронизации с базой данных список организаций (МР/МО) будет заменён актуальным (механизм синхронизации требует подключения к сети Интернет и основан на использовании протокола HTTPS (TCP порт 443)) Если после обновления Вам не удалось найти необходимую организацию в списке, обратитесь к ответственному за поддержание реестра Вашего региона.
E46: • При сохранении шаблона осуществляется проверка корректности данных, в том числе на наличие значений в ячейках, обязательных для заполнения • Если какая-то ячейка не удовлетворяет условию проверки, на лист «Проверка» добавляется гиперссылка на данную ячейку и указывается причина ошибки • В колонке «Статус» для каждого сообщения возможны 2 значения: ошибка и предупреждение • При наличии сообщений со статусом «Ошибка» шаблон будет отклонён системой и не будет загружен в хранилище данных, сообщения со статусом «Предупреждение» носят информационный характер, и такой шаблон будет принят системой
E58: Обратиться за помощью в службу технической поддержки
E70: Инструкция по загрузке сопроводительных материалов
E71: Инструкция по работе с отчетной формой
E79: При наличии подключения к Интернет, можно автоматически проверять наличие доступных обновлений. Выберите способ оповещения о наличии обновлений для отчёта:
F81: проверять доступные обновления (рекомендуется) | AA81: y
F83: никогда не проверять наличие обновлений (не рекомендуется)

Sheet Лог обновления
A1: Дата/Время | B1: Сообщение | C1: Статус
A2: 44853.457 | B2: Проверка доступных обновлений... | C2: Информация
A3: 44853.457 | B3: Нет доступных обновлений для отчёта с кодом FAS.JKH.OPEN.INFO.QUARTER.GVS! | C3: Информация
A4: 44853.457 | B4: Проверка доступных обновлений... | C4: Информация
A5: 44853.457 | B5: Нет доступных обновлений для отчёта с кодом FAS.JKH.OPEN.INFO.QUARTER.GVS! | C5: Информация
A6: 44853.457 | B6: Проверка доступных обновлений... | C6: Информация
A7: 44853.457 | B7: Нет доступных обновлений для отчёта с кодом FAS.JKH.OPEN.INFO.QUARTER.GVS! | C7: Информация
A8: 44853.459 | B8: Проверка доступных обновлений... | C8: Информация
A9: 44853.459 | B9: Нет доступных обновлений для отчёта с кодом FAS.JKH.OPEN.INFO.QUARTER.GVS! | C9: Информация
A10: 44853.733 | B10: Проверка доступных обновлений... | C10: Информация

Sheet Титульный
F1: 28425154
F4: =version -> Версия 1.0.1
E5: Информация о наличии (отсутствии) технической возможности подключения к централизованной системе горячего водоснабжения, а также о регистрации и ходе реализации заявок о подключении к централизованной системе горячего водоснабжения
E7: Субъект РФ | F7: Нижегородская область
E9: Публикация2 | F9: На сайте регулирующего органа
E11: Отсутствует Интернет в границах территории МО, где организация осуществляет регулируемые виды деятельности | F11: нет
E13: Тип отчета | F13: первичное раскрытие информации
E14: Дата внесения изменений в информацию, подлежащую раскрытию | F14: 19.10.2022
E16: Применяется дифференциация тарифа по централизованным системам теплоснабжения?
E17: Информация по скольким централизованным системам теплоснабжения будет заполнена в шаблоне?
F19: Отчетный период
C20: 2022 | E20: Год | F20: 2022
C21: III квартал | E21: Квартал | F21: III квартал
E23: Является ли данное юридическое лицо подразделением (филиалом) другой организации | F23: нет
E26: Наименование организации | F26: ООО "Профит"
E27: Наименование филиала
E28: ИНН | F28: 5262287335
E29: КПП | F29: 770301001
E30: Вид деятельности
E32: Почтовый адрес регулируемой организации | F32: 603081, г.Нижний Новгород, а/я 1
E33: Фамилия, имя, отчество руководителя | F33: Удалов Борис Вадимович
F35: Ответственный за составление формы
E36: Фамилия, имя, отчество | F36: Лисина Наталья Валентиновна
E37: Должность | F37: начальник технического отдела
E38: (код) номер телефона | F38: 8(831_278 64 84
E39: e-mail | F39: om1997@mail.ru

Sheet Территории
K1: МО | L1: ОКТМО | M1: МР
D4: Перечень муниципальных районов и муниципальных образований (территорий действия тарифа)
F6: да
D8: Территория действия тарифа | F8: Муниципальный район | I8: Муниципальное образование
D9: № п/п | E9: Наименование | F9: № п/п | H9: Наименование | I9: № п/п | K9: Наименование | L9: ОКТМО
D10: 1 | E10: 2 | F10: 3 | H10: 4 | I10: 5 | K10: 6 | L10: 7
D11: 0 | M11: размерженный МР | P11: флаг используемости территории на листе Перечень тарифов | Q11: копия территорий | R11: МР (ОКТМО)
B12: auto | D12: 1 | E12: город Нижний Новгород, город Нижний Новгород (22701000); | G12: 0 | J12: 0 | M12: =mergeValue(H12) -> 0 | P12: {=IF(ISERROR(MATCH(MID(Q12,1,250),MID(note_ter,1,250),0)),"n","y")} -> n | Q12: город Нижний Новгород, город Нижний Новгород (22701000); | R12: =K12&"("&L12&")" -> ()
B13: auto | G13: 1 | H13: город Нижний Новгород | J13: 0 | M13: =mergeValue(H13) -> город Нижний Новгород | R13: =K13&"("&L13&")" -> ()
B14: auto | J14: 1 | K14: город Нижний Новгород | L14: 22701000 | M14: =mergeValue(H14) -> город Нижний Новгород | R14: =K14&" ("&L14&")" -> город Нижний Новгород (22701000)
B17: man | Q17: Добавить территорию действия тарифа

Sheet Дифференциация
D4: =Титульный!E5 -> Информация о наличии (отсутствии) технической возможности подключения к централизованной системе горячего водоснабжения, а также о регистрации и ходе реализации заявок о подключении к централизованной системе горячего водоснабжения
D5: =IF(org=0,"Не определено",org) -> ООО "Профит"
D18: Вид деятельности | F18: Дифференциация по территориям оказания услуг | J18: Дифференциация по централизованным системам коммунальной инфраструктуры
D19: № п/п | E19: Наименование | F19: да/нет | G19: № п/п | I19: Наименование | J19: да/нет | K19: № п/п | M19: Наименование
D20: 1 | E20: 2 | F20: 3 | G20: 4 | I20: 5 | J20: 6 | K20: 7 | M20: 8
D22: 1 | E22: Горячее водоснабжение | F22: нет | H22: 1 | J22: нет | L22: 1 | X22: 4189706 | Y22: a | Z22: 1705000

Sheet Форма 1.0.1
G1: 4
D5: Форма 1.0.1 Основные параметры раскрываемой информации 1
D6: =IF(org=0,"Не определено",org) -> ООО "Профит"
C8: 22 | D8: Форма 1.0.1
D9: Параметры формы | G9: Описание параметров формы
D10: № п/п | E10: Наименование параметра | F10: Информация
D11: 1 | E11: 2 | F11: 3 | G11: 4
D12: 1 | E12: Дата заполнения/внесения изменений | F12: =IF(form_up_date="","",form_up_date) -> 19.10.2022 | G12: Указывается календарная дата первичного заполнения или внесения изменений в форму в виде «ДД.ММ.ГГГГ».
D13: 2.1 | E13: Наименование централизованной системы коммунальной инфраструктуры | F13: наименование отсутствует | G13: Указывается наименование централизованной системы холодного водоснабжения/горячего водоснабжения/водоотведения/теплоснабжения, к которой относится размещаемая информация. В случае наличия нескольких централизованных систем коммунальной инфраструктуры, информация по каждой из них указывается в отдельной строке.
D14: 3.1 | E14: Наименование регулируемого вида деятельности | F14: Горячее водоснабжение | G14: Указывается наименование вида регулируемой деятельности.
D15: 4.1 | E15: Территория оказания услуги по регулируемому виду деятельности | F15: x
D16: =D15&".1" -> 4.1.1 | E16: Субъект РФ | F16: =IF(region_name="","",region_name) -> Нижегородская область | G16: Указывается наименование субъекта Российской Федерации
D17: 4.1.1.1 | E17: муниципальный район | F17: город Нижний Новгород | G17: Указывается наименование муниципального района, на территории которого организация оказывает услуги по регулируемому виду деятельности.
D18: 4.1.1.1.1 | E18: муниципальное образование | F18: город Нижний Новгород (22701000) | G18: Указывается наименование и код муниципального района, муниципального образования в соответствии с Общероссийским классификатором территорий муниципальных образований (далее - ОКТМО), входящего в муниципальный район, на территории которого организация оказывает услуги по регулируемому виду деятельности. В случае оказания услуг по регулируемому виду деятельности на территории нескольких муниципальных районов (муниципальных образований) данные по каждому их них указываются в отдельной строке.
E20: 1 Информация по данной форме публикуется при раскрытии информации по каждой из форм.

Sheet Форма 1.7
G1: 4
F2: тыс.куб.м/сутки | H2: Указывается резерв мощности для централизованной системы горячего водоснабжения, тариф для которой не является отличным от тарифов других централизованных систем горячего водоснабжения регулируемой организации. При использовании регулируемой организацией нескольких централизованных систем горячего водоснабжения информация о резерве мощности таких систем указывается в отношении каждой централизованной системы горячего водоснабжения в отдельных строках.
D5: =Титульный!E5 -> Информация о наличии (отсутствии) технической возможности подключения к централизованной системе горячего водоснабжения, а также о регистрации и ходе реализации заявок о подключении к централизованной системе горячего водоснабжения
D6: =IF(org=0,"Не определено",org) -> ООО "Профит"
G7: 22
D8: № п/п | E8: Наименование параметра | F8: Единица измерения | G8: Вид деятельности:_x000D_ - Горячее водоснабжение_x000D_ _x000D_ Территория оказания услуг:_x000D_ - без дифференциации_x000D_ _x000D_ Централизованная система горячего водоснабжения:_x000D_ - наименование отсутствует | H8: Описание параметров формы
G9: Информация
D10: 1 | E10: 2 | F10: 3 | G10: =G1&".1" -> 4.1
D11: 1 | E11: Количество поданных заявок | F11: ед | G11: 0 | H11: Указывается количество поданных заявок на подключение (технологическое присоединение) к централизованной системе горячего водоснабжения в течение отчетного квартала.
D12: 2 | E12: Количество исполненных заявок | F12: ед | G12: 0 | H12: Указывается количество исполненных заявок на подключение (технологическое присоединение) к централизованной системе горячего водоснабжения в течение отчетного квартала.
D13: 3 | E13: Количество заявок с решением об отказе в подключении | F13: ед | G13: 0 | H13: Указывается количество заявок с решением об отказе в подключении (технологическом присоединении) к централизованной системе горячего водоснабжения в течение отчетного квартала.
D14: 4 | E14: Причины отказа в подключении | F14: x | H14: Указывается текстовое описание причин принятия решений об отказе в подключении (технологическом присоединении) к централизованной системе горячего водоснабжения. Не заполняется в случае, если решения об отказе в подключении (технологическом присоединении) в течение отчетного периода не принимались.
D15: 5 | E15: Резерв мощности централизованной системы горячего водоснабжения в течение квартала, в том числе: | F15: тыс.куб.м/сутки | G15: =SUM(G16:G18) -> 0 | H15: Указывается резерв мощности централизованной системы горячего водоснабжения (совокупности централизованных систем горячего водоснабжения) в случае, если для них установлены одинаковые тарифы в сфере горячего водоснабжения. В случае если регулируемыми организациями оказываются услуги по горячему водоснабжению по нескольким технологически не связанным между собой централизованным системам горячего водоснабжения, и если в отношении указанных систем устанавливаются различные тарифы в сфере горячего водоснабжения, то информация раскрывается отдельно по каждой централизованной системе горячего водоснабжения.
D16: 5.0
D17: 5.1 | E17: резерв мощности отсутствует | F17: тыс.куб.м/сутки | H17: Указывается резерв мощности для централизованной системы горячего водоснабжения, тариф для которой не является отличным от тарифов других централизованных систем горячего водоснабжения регулируемой организации. При использовании регулируемой организацией нескольких централизованных систем горячего водоснабжения информация о резерве мощности таких систем указывается в отношении каждой централизованной системы горячего водоснабжения в отдельных строках.
E18: Добавить централизованную систему горячего водоснабжения

Sheet Сведения об изменении
D7: Сведения об изменениях в первоначально опубликованной информации
D8: =IF(org=0,"Не определено",org) -> ООО "Профит"
D10: № п/п | E10: Сведения
D11: 1 | E11: 2
D12: 0
D13: 1
E14: Добавить строку

Sheet Форма 1.0.2
D5: Форма 1.0.2 Информация о публикации в печатных изданиях 2
D8: Параметры формы | K8: Описание параметров формы
D9: № п/п | E9: Форма публикации | G9: Официальное печатное издание
E10: Номер | F10: Наименование | G10: Наименование | H10: Номер | I10: Дата выпуска | J10: Ссылка на документ
D11: 1 | E11: 2 | F11: 3 | G11: 4 | H11: 5 | I11: 6 | J11: 7 | K11: 8
A12: 3 | D12: 1 | K12: В колонке «Дата выпуска» дата выпуска печатного издания указывается в виде «ДД.ММ.ГГГГ». В колонке «Ссылка на документ» указывается ссылка на отсканированную копию печатного издания, предварительно загруженную в хранилище федеральной государственной информационной системы «Единая информационно-аналитическая система «Федеральный орган регулирования - региональные органы регулирования - субъекты регулирования» (далее – ФГИС ЕИАС), с опубликованной информацией. В случае публикации информации в нескольких печатных изданиях информация по каждому из них указывается в отдельной строке. | M12: =IF(ISERROR(INDEX(kind_of_nameforms,MATCH(E12,kind_of_forms,0),1)),"",INDEX(kind_of_nameforms,MATCH(E12,kind_of_forms,0),1))
E13: Добавить строку
E15: 2 В данной форме публикуется информация по каждой из форм раскрытия, данные в которой относятся к муниципальному образованию, в котором отсутствует доступ в информационно-телекоммуникационную сеть «Интернет» (далее – сеть «Интернет»).

Sheet Комментарии
D7: Комментарии
D8: =IF(org=0,"Не определено",org) -> ООО "Профит"
D10: № п/п | E10: Комментарий
D11: 1 | E11: 2
D12: 0
E13: Добавить

Sheet Проверка
B2: Результат проверки
B4: Ссылка1 | C4: Ссылка2 | D4: Причина | E4: Статус

Sheet modReestr

Sheet AllSheetsInThisWorkbook
A1: Расчетные листы | B1: Скрытые листы
A2: Инструкция | B2: modProv
A3: Лог обновления | B3: modReestr
A4: Титульный | B4: AllSheetsInThisWorkbook
A5: Территории | B5: TEHSHEET
A6: Дифференциация | B6: modCheckCyan
A7: Форма 1.0.1 | B7: modInfo
A8: Форма 1.7 | B8: et_union_hor
A9: Сведения об изменении | B9: et_union_vert
A10: Форма 1.0.2 | B10: modList00
A11: Комментарии | B11: modList01
A12: Проверка | B12: modList02
B13: modList03
B14: modList04
B15: modList07
B16: modList09
B17: modHTTP
B18: modfrmRegion
B19: MR_LIST
B20: REESTR_VT
B21: REESTR_VED
B22: modfrmReestrObj
B23: DataOrg
B24: modfrmReestr
... B39: REESTR_LINK

Sheet TEHSHEET
A1: REGION | C1: year_list | D1: logical | E1: Месяц (MONTH) | F1: Квартал (QUARTER) | G1: Месяц (kind_of_publication) | H1: Единица измерения объема оказываемых услуг ГВС /kind_of_unit_GVS/ | I1: Вид тарифа /list_of_tariff/ | J1: mr_id | K1: версия шаблона (DocProp_Version) | L1: 0.1 | M1: Тип отчета data_type | S1: Перечень форм (kind_of_forms)
A2: Алтайский край | C2: 2015 | D2: да | E2: январь | F2: I квартал | G2: На официальном сайте организации | H2: тыс.куб.м/сутки | J2: 52 | K2: код шаблона (DocProp_TemplateCode) | L2: FAS.JKH.OPEN.INFO.QUARTER.HVS | M2: первичное раскрытие информации | S2: Форма 1.0.1 | T2: Основные параметры раскрываемой информации
A3: Амурская область | C3: 2016 | D3: нет | E3: февраль | F3: II квартал | G3: На сайте регулирующего органа | H3: Гкал/час | I3: Без дифференциации | J3: sys_id | K3: сфера (TSphere) | L3: ХВС | M3: изменения в раскрытой ранее информации | S3: Форма 1.7 | T3: =Титульный!E5 -> Информация о наличии (отсутствии) технической возможности подключения к централизованной системе горячего водоснабжения, а также о регистрации и ходе реализации заявок о подключении к централизованной системе горячего водоснабжения
A4: Архангельская область | C4: 2017 | E4: март | F4: III квартал | H4: куб.м/час | J4: 104 | K4: сфера(латиница) (TSphere_trans) | L4: VS
A5: Астраханская область | C5: 2018 | E5: апрель | F5: IV квартал | K5: сфера расширено (TSphere_full)
A6: Белгородская область | C6: 2019 | E6: май
A7: Брянская область | C7: 2020 | E7: июнь
A8: Владимирская область | C8: 2021 | E8: июль | K8: true
A9: Волгоградская область | C9: 2022 | E9: август
A10: Вологодская область | E10: сентябрь
A11: Воронежская область | E11: октябрь
A12: г.Байконур | E12: ноябрь
A13: г. Москва | E13: декабрь
A14: г.Санкт-Петербург
A15: г.Севастополь
A16: Еврейская автономная область | G16: Текущая дата
A17: Забайкальский край | C17: Организация | D17: =IF(f_year = "","", IF(LEN(f_quart)=0,"",IF(f_quart="I квартал", "01.01."&f_year,IF(f_quart="II квартал","01.04."&f_year,(IF(f_quart="III квартал", "01.07."&f_year,"01.10."&f_year)))) )) -> 01.07.2022 | E17: =IF(f_year = "","", IF(LEN(f_quart)=0,"",IF(f_quart="I квартал", "31.03."& f_year,IF(f_quart="II квартал","30.06."& f_year,(IF(f_quart="III квартал", "30.09."& f_year,"31.12."& f_year)))) )) -> 30.09.2022 | G17: 19.10.2022 16:00:27
A18: Ивановская область
A19: Иркутская область | G19: Признак изменения данных на листе Доступ к товарам и услугам
A20: Кабардино-Балкарская республика | C20: Виды деятельности | G20: TRUE
A21: Калининградская область
A22: Калужская область
A23: Камчатский край
A24: Карачаево-Черкесская республика
A25: Кемеровская область
A26: Кировская область
A27: Костромская область
A28: Краснодарский край
A29: Красноярский край
A30: Курганская область
A31: Курская область
A32: Ленинградская область
... A87: Ярославская область

Sheet modCheckCyan
A2: =IF('Сведения об изменении'!$E$13="",1,0) -> 1
A3: =IF(Дифференциация!$E$22="",1,0) -> 0
A4: =IF(Территории!$E$12="",1,0) -> 0
A5: =IF('Форма 1.7'!$G$11="",1,0) -> 0
A6: =IF('Форма 1.7'!$G$12="",1,0) -> 0
A7: =IF('Форма 1.7'!$G$13="",1,0) -> 0
A8: =IF('Форма 1.7'!$E$17="",1,0) -> 0

Sheet modInfo
B1: Территории
A2: 1 | B2: Наименование территории оказания услуг для целей идентификации
A3: 2 | B3: Муниципальные районы и муниципальные образования, на территории которых осуществляется оказание услуг
B4: Дифференциация
A5: 1 | B5: В случае, если регулируемая организация осуществляет несколько видов деятельности, информация о которых подлежит раскрытию, информация по каждому виду деятельности раскрывается отдельно.
A6: 2 | B6: Поле заполняется выбором значений из списка. Если значений для выбора нет - убедитесь, что лист "Территории" заполнен.
A7: 3 | B7: Условное наименование централизованной системы коммунальной инфраструктуры для целей идентификации.
A8: 4 | B8: В случае, если регулируемыми организациями оказываются услуги по нескольким технологически не связанным между собой централизованным системам коммунальной инфраструктуры и если в отношении указанных централизованных систем устанавливаются различные тарифы, то информация раскрывается отдельно по каждой централизованной системе коммунальной инфраструктуры.
B9: Сведения об изменении
A10: 1 | B10: Лист заполняется в случае, если на Титульном листе в поле "Тип отчета" выбрано значение «Изменения в раскрытой ранее информации».
B11: Нет доступных обновлений, версия отчёта актуальна

Sheet et_union_hor
A3: et_Comm
A7: et_List04
A13: et_List09_0
B15: auto | D15: 1 | G15: 0 | J15: 0 | M15: =mergeValue(H15) -> 0 | P15: {=IF(ISERROR(MATCH(MID(Q15,1,250),MID(note_ter,1,250),0)),"n","y")} -> y | R15: =K15&"("&L15&")" -> ()
H16: Добавить МР
A18: et_List09_1
B20: auto | G20: 0 | J20: 0 | M20: =mergeValue(H20) -> 0 | R20: =K20&"("&L20&")" -> ()
K21: Добавить МО
A23: et_List09_2
B25: auto | J25: 0 | M25: =mergeValue(H25) -> 0 | R25: =K25&" ("&L25&")" -> ()
A27: et_List07_1
D29: 1 | F29: нет | H29: 1 | J29: нет | L29: 1 | Y29: a | Z29: 1705000
M30: Добавить централизованную систему коммунальной инфраструктуры
I31: Добавить описание территории оказания услуг
A33: et_List07_4
H35: 1 | J35: нет | L35: 1 | Y35: a | Z35: 1705000
M36: Добавить централизованную систему коммунальной инфраструктуры
A38: et_List07_5
L40: 1 | Y40: a | Z40: 1705000
A43: et_List03
A45: 3 | M45: =IF(ISERROR(INDEX(kind_of_nameforms,MATCH(E45,kind_of_forms,0),1)),"",INDEX(kind_of_nameforms,MATCH(E45,kind_of_forms,0),1))
A47: et_List02_st | B47: et_List02_ter | C47: et_List02_mr | D47: et_List02_mo
D50: Форма 1.0.1
D51: Параметры формы | G51: Описание параметров формы
D52: № п/п | E52: Наименование параметра | F52: Информация
D53: 1 | E53: 2 | F53: 3 | G53: 4
D54: 1 | E54: Дата заполнения/внесения изменений | F54: =IF(form_up_date="","",form_up_date) -> 19.10.2022 | G54: Указывается календарная дата первичного заполнения или внесения изменений в форму в виде «ДД.ММ.ГГГГ».
D55: 2.1 | E55: Наименование централизованной системы коммунальной инфраструктуры | G55: Указывается наименование централизованной системы холодного водоснабжения/горячего водоснабжения/водоотведения/теплоснабжения, к которой относится размещаемая информация. В случае наличия нескольких централизованных систем коммунальной инфраструктуры, информация по каждой из них указывается в отдельной строке.
D56: 3.1 | E56: Наименование регулируемого вида деятельности | G56: Указывается наименование вида регулируемой деятельности.
D57: 4.1 | E57: Территория оказания услуги по регулируемому виду деятельности | F57: x
D58: =D57&".1" -> 4.1.1 | E58: Субъект РФ | F58: =IF(region_name="","",region_name) -> Нижегородская область | G58: Указывается наименование субъекта Российской Федерации
D59: 4.1.1.1 | E59: муниципальный район | G59: Указывается наименование муниципального района, на территории которого организация оказывает услуги по регулируемому виду деятельности.
D60: 4.1.1.1.1 | E60: муниципальное образование | G60: Указывается наименование и код муниципального района, муниципального образования в соответствии с Общероссийским классификатором территорий муниципальных образований (далее - ОКТМО), входящего в муниципальный район, на территории которого организация оказывает услуги по регулируемому виду деятельности. В случае оказания услуг по регулируемому виду деятельности на территории нескольких муниципальных районов (муниципальных образований) данные по каждому их них указываются в отдельной строке.

Sheet et_union_vert

Sheet modList00

Sheet modList01

Sheet modList02

Sheet modList03

Sheet modList04

Sheet modList07

Sheet modList09

Sheet modHTTP

Sheet modfrmRegion

Sheet MR_LIST

Sheet REESTR_VT

Sheet REESTR_VED
A1: ID_TARIFF_NAME | B1: VED_NAME
A2: 4189706 | B2: Горячее водоснабжение
A3: 4189705 | B3: Транспортировка
A4: 4189707 | B4: Подключение (технологическое присоединение) к централизованной системе горячего водоснабжения

Sheet modfrmReestrObj

Sheet DataOrg

Sheet modfrmReestr

Sheet modUpdTemplMain

Sheet REESTR_ORG
A1: № | B1: REGION_ID | C1: REGION_NAME | D1: RST_ORG_ID | E1: ORG_NAME | F1: INN_NAME | G1: KPP_NAME | H1: ORG_START_DATE | I1: ORG_END_DATE
A2: 1 | B2: 2634 | C2: Нижегородская область | D2: 26358279 | E2: АО "АПЗ" | F2: 5243001742 | G2: 524301001 | J2: HOT_VS
A3: 2 | B3: 2634 | C3: Нижегородская область | D3: 26373616 | E3: АО "ВМЗ" | F3: 5247004695 | G3: 524701001 | J3: HOT_VS
A4: 3 | B4: 2634 | C4: Нижегородская область | D4: 26358390 | E4: АО "ВОЛГАЭНЕРГОСБЫТ" | F4: 5256062171 | G4: 525601001 | J4: HOT_VS
A5: 4 | B5: 2634 | C5: Нижегородская область | D5: 31314742 | E5: АО "ВЫКСАТЕПЛОЭНЕРГО" | F5: 5247055114 | G5: 524701001 | J5: HOT_VS
A6: 5 | B6: 2634 | C6: Нижегородская область | D6: 26373593 | E6: АО "Волга" | F6: 5244009279 | G6: 524401001 | J6: HOT_VS
A7: 6 | B7: 2634 | C7: Нижегородская область | D7: 30335229 | E7: АО "ГУ ЖКХ" | F7: 5116000922 | G7: 770401001 | J7: HOT_VS
A8: 7 | B8: 2634 | C8: Нижегородская область | D8: 26358272 | E8: АО "ДРСП" | F8: 5239006515 | G8: 523901001 | J8: HOT_VS
A9: 8 | B9: 2634 | C9: Нижегородская область | D9: 31258691 | E9: АО "ЖКХ "КАЛИКИНСКОЕ" | F9: 5246038236 | G9: 524601001 | J9: HOT_VS
A10: 9 | B10: 2634 | C10: Нижегородская область | D10: 26358276 | E10: АО "КОММАШ" | F10: 5243000523 | G10: 524301001 | J10: HOT_VS
A11: 10 | B11: 2634 | C11: Нижегородская область | D11: 26358168 | E11: АО "Лысковокоммунсервис" | F11: 5222000321 | G11: 522201001 | H11: 09-12-2004 00:00:00 | J11: HOT_VS
A12: 11 | B12: 2634 | C12: Нижегородская область | D12: 26504840 | E12: АО "МСК Энерго" | F12: 5018054863 | G12: 501801001 | J12: HOT_VS
A13: 12 | B13: 2634 | C13: Нижегородская область | D13: 26358270 | E13: АО "Молоко" | F13: 5239001108 | G13: 523901001 | J13: HOT_VS
A14: 13 | B14: 2634 | C14: Нижегородская область | D14: 30844713 | E14: АО "НЗ 70-ЛЕТИЯ ПОБЕДЫ" | F14: 5259113339 | G14: 525901001 | J14: HOT_VS
A15: 14 | B15: 2634 | C15: Нижегородская область | D15: 31023931 | E15: АО "НОКК" (Балахнинский филиал) | F15: 5260267654 | G15: 524443001 | J15: HOT_VS
A16: 15 | B16: 2634 | C16: Нижегородская область | D16: 27566839 | E16: АО "НОКК" (Богородский филиал) | F16: 5260267654 | G16: 524543001 | J16: HOT_VS
A17: 16 | B17: 2634 | C17: Нижегородская область | D17: 31538777 | E17: АО "НОКК" (Володарский филиал) | F17: 5260267654 | G17: 524943001 | J17: HOT_VS
A18: 17 | B18: 2634 | C18: Нижегородская область | D18: 27968016 | E18: АО "НОКК" (Семеновский филиал) | F18: 5260267654 | G18: 522845001 | J18: HOT_VS
A19: 18 | B19: 2634 | C19: Нижегородская область | D19: 31171901 | E19: АО "НОКК" (Сеченовский филиал) | F19: 5260267654 | G19: 523043001 | J19: HOT_VS
A20: 19 | B20: 2634 | C20: Нижегородская область | D20: 28007548 | E20: АО "НОКК" (Шахунский филиал) | F20: 5260267654 | G20: 523943001 | J20: HOT_VS
A21: 20 | B21: 2634 | C21: Нижегородская область | D21: 28543854 | E21: АО "ОМК СТАЛЬНОЙ ПУТЬ" | F21: 7708737500 | G21: 523945001 | J21: HOT_VS
A22: 21 | B22: 2634 | C22: Нижегородская область | D22: 26322331 | E22: АО "СИБУР-НЕФТЕХИМ" | F22: 5249051203 | G22: 525350001 | J22: HOT_VS
A23: 22 | B23: 2634 | C23: Нижегородская область | D23: 26555361 | E23: АО "СТСК" | F23: 5254082630 | G23: 525401001 | J23: HOT_VS
A24: 23 | B24: 2634 | C24: Нижегородская область | D24: 26358408 | E24: АО "Теплоэнерго" | F24: 5257087027 | G24: 525701001 | J24: HOT_VS
A25: 24 | B25: 2634 | C25: Нижегородская область | D25: 27585148 | E25: АО "ЭСК" | F25: 5262054490 | G25: 525601001 | H25: 07-09-2009 00:00:00 | J25: HOT_VS
A26: 25 | B26: 2634 | C26: Нижегородская область | D26: 28943557 | E26: Арзамасский участок АО "НОКК" | F26: 5260267654 | G26: 524345001 | J26: HOT_VS
A27: 26 | B27: 2634 | C27: Нижегородская область | D27: 26358190 | E27: ГАПОУ "ПЕРЕВОЗСКИЙ СТРОИТЕЛЬНЫЙ КОЛЛЕДЖ" | F27: 5225001122 | G27: 522501001 | J27: HOT_VS
A28: 27 | B28: 2634 | C28: Нижегородская область | D28: 26358119 | E28: ГБУ "Решетихинский ПНИ" | F28: 5214003022 | G28: 521401001 | J28: HOT_VS
A29: 28 | B29: 2634 | C29: Нижегородская область | D29: 26358243 | E29: ГБУ СРЦИ "КРАСНЫЙ ЯР" | F29: 5235001940 | G29: 523501001 | J29: HOT_VS
A30: 29 | B30: 2634 | C30: Нижегородская область | D30: 31036531 | E30: ГБУ ССОН "АВТОЗАВОДСКИЙ ДОМ ДЛЯ ДЕТЕЙ "НАДЕЖДА" | F30: 5256026159 | G30: 525601001 | J30: HOT_VS
A31: 30 | B31: 2634 | C31: Нижегородская область | D31: 26358271 | E31: ГОУ СПО "Шахунский агропромышленный техникум" | F31: 5239002285 | G31: 523901001 | J31: HOT_VS
A32: 31 | B32: 2634 | C32: Нижегородская область | D32: 26808802 | E32: Горьковская дирекция по тепловодоснабжению структурное подразделение Центральной дирекции по тепловодоснабжению - филиала ОАО "РЖД" | F32: 7708503727 | G32: 525745041 | J32: HOT_VS
A33: 32 | B33: 2634 | C33: Нижегородская область | D33: 28942141 | E33: МП "Жилкомсервис" | F33: 5223034940 | G33: 522301001 | J33: HOT_VS
A34: 33 | B34: 2634 | C34: Нижегородская область | D34: 26358144 | E34: МП "Коммунальник" | F34: 5216017239 | G34: 521601001 | J34: HOT_VS
A35: 34 | B35: 2634 | C35: Нижегородская область | D35: 26358307 | E35: МП "Линдовский ККПиБ" | F35: 5246004124 | G35: 524601001 | J35: HOT_VS
A36: 35 | B36: 2634 | C36: Нижегородская область | D36: 26358141 | E36: МП "Сатисское ЖКХ" | F36: 5216017126 | G36: 521601001 | J36: HOT_VS
A37: 36 | B37: 2634 | C37: Нижегородская область | D37: 28869650 | E37: МП "ТЕПЛОВЫЕ СЕТИ" | F37: 5240000444 | G37: 524001001 | J37: HOT_VS
A38: 37 | B38: 2634 | C38: Нижегородская область | D38: 31543727 | E38: МП КОВЕРНИНСКОГО МУНИЦИПАЛЬНОГО ОКРУГА "ЖИЛИЩНО-КОММУНАЛЬНОЕ ХОЗЯЙСТВО "КОВЕРНИНО" | F38: 5248044330 | G38: 524801001 | H38: 22-11-2021 00:00:00 | J38: HOT_VS
A39: 38 | B39: 2634 | C39: Нижегородская область | D39: 26358275 | E39: МУ ТЭПП | F39: 5243000467 | G39: 520202001 | J39: HOT_VS
A40: 39 | B40: 2634 | C40: Нижегородская область | D40: 26652819 | E40: МУП "Большое Козино" | F40: 5244022199 | G40: 524401001 | J40: HOT_VS
...

Sheet modClassifierValidate

Sheet modHyp

Sheet modfrmDateChoose

Sheet modComm

Sheet modThisWorkbook

Sheet REESTR_MO
A1: № | B1: МР | C1: МО | D1: МО_ОКТМО
A2: 1 | B2: Ардатовский муниципальный район | C2: Ардатовский муниципальный район | D2: 22602000
A3: 2 | B3: Ардатовский муниципальный район | C3: Кужендеевский сельсовет | D3: 22602424
A4: 3 | B4: Ардатовский муниципальный район | C4: Личадеевский сельсовет | D4: 22602428
A5: 4 | B5: Ардатовский муниципальный район | C5: Михеевский сельсовет | D5: 22602432
A6: 5 | B6: Ардатовский муниципальный район | C6: Рабочий поселок Ардатов | D6: 22602151
A7: 6 | B7: Ардатовский муниципальный район | C7: Рабочий поселок Мухтолово | D7: 22602155
A8: 7 | B8: Ардатовский муниципальный район | C8: Саконский сельсовет | D8: 22602436
A9: 8 | B9: Ардатовский муниципальный район | C9: Стексовский сельсовет | D9: 22602440
A10: 9 | B10: Ардатовский муниципальный район | C10: Хрипуновский сельсовет | D10: 22602444
A11: 10 | B11: Арзамасский муниципальный район | C11: Абрамовский сельсовет | D11: 22603404
A12: 11 | B12: Арзамасский муниципальный район | C12: Арзамасский муниципальный район | D12: 22603000
A13: 12 | B13: Арзамасский муниципальный район | C13: Балахонихинский сельсовет | D13: 22603408
... A279: 278 | B279: город Шахунья | C279: город Шахунья | D279: 22758000

Sheet REESTR_MO_FILTER

Sheet modfrmReestrMR

Sheet modServiceModule

Sheet modfrmCheckUpdates

Sheet REESTR_DS
B3: город Нижний Новгород, город Нижний Новгород (22701000);

Sheet REESTR_CHS

Sheet REESTR_LINK
A1: ID | B1: LINK_NAME | C1: REGION
A2: 4189678 | B2: https://portal.eias.ru/Portal/DownloadPage.aspx?type=12&guid=????????-????-????-????-???????????? | C2: ALL
A3: 4190415 | B3: https://eias.fstrf.ru/disclo/get_file?p_guid=????????-????-????-????-???????????? | C3: ALL
